BEGIN:VCALENDAR
VERSION:2.0
PRODID:-//The Ridges Resort - ECPv6.15.20//NONSGML v1.0//EN
CALSCALE:GREGORIAN
METHOD:PUBLISH
X-ORIGINAL-URL:https://theridgesresort.com
X-WR-CALDESC:Events for The Ridges Resort
REFRESH-INTERVAL;VALUE=DURATION:PT1H
X-Robots-Tag:noindex
X-PUBLISHED-TTL:PT1H
BEGIN:VTIMEZONE
TZID:America/New_York
BEGIN:DAYLIGHT
TZOFFSETFROM:-0500
TZOFFSETTO:-0400
TZNAME:EDT
DTSTART:20240310T070000
END:DAYLIGHT
BEGIN:STANDARD
TZOFFSETFROM:-0400
TZOFFSETTO:-0500
TZNAME:EST
DTSTART:20241103T060000
END:STANDARD
BEGIN:DAYLIGHT
TZOFFSETFROM:-0500
TZOFFSETTO:-0400
TZNAME:EDT
DTSTART:20250309T070000
END:DAYLIGHT
BEGIN:STANDARD
TZOFFSETFROM:-0400
TZOFFSETTO:-0500
TZNAME:EST
DTSTART:20251102T060000
END:STANDARD
BEGIN:DAYLIGHT
TZOFFSETFROM:-0500
TZOFFSETTO:-0400
TZNAME:EDT
DTSTART:20260308T070000
END:DAYLIGHT
BEGIN:STANDARD
TZOFFSETFROM:-0400
TZOFFSETTO:-0500
TZNAME:EST
DTSTART:20261101T060000
END:STANDARD
END:VTIMEZONE
BEGIN:VEVENT
DTSTART;TZID=America/New_York:20251031T183000
DTEND;TZID=America/New_York:20251031T210000
DTSTAMP:20260423T131848
CREATED:20251006T192853Z
LAST-MODIFIED:20251006T192853Z
UID:10001851-1761935400-1761944400@theridgesresort.com
SUMMARY:Halloween Movie Nights
DESCRIPTION:Gather under the stars for cozy\, family-friendly frights on Friday and Saturday nights\, September 27 – November 1. We’ll light the fire pits\, cue the classics\, and keep the vibes spooky-sweet all season long. Movies begin at dusk; bring blankets or low lawn chairs. Concessions and warm drinks available for purchase. \nSchedule to be posted.
URL:https://theridgesresort.com/event/halloween-movie-nights-2/2025-10-31/
LOCATION:The Ridges Resort\, 3499 US-76 W\, Hiawassee\, GA\, 30546\, United States
CATEGORIES:Holiday Events
ATTACH;FMTTYPE=image/jpeg:https://theridgesresort.com/wp-content/uploads/2025/09/HMN-Header.jpg
END:VEVENT
BEGIN:VEVENT
DTSTART;TZID=America/New_York:20251025T183000
DTEND;TZID=America/New_York:20251025T210000
DTSTAMP:20260423T131848
CREATED:20250919T135231Z
LAST-MODIFIED:20251003T144011Z
UID:10001211-1761417000-1761426000@theridgesresort.com
SUMMARY:Halloween Movie Nights
DESCRIPTION:Gather under the stars for cozy\, family-friendly frights on Friday and Saturday nights\, September 27 – November 1. We’ll light the fire pits\, cue the classics\, and keep the vibes spooky-sweet all season long. Movies begin at dusk; bring blankets or low lawn chairs. Concessions and warm drinks available for purchase. \nSchedule to be posted.
URL:https://theridgesresort.com/event/halloween-movie-nights/2025-10-25/
LOCATION:The Ridges Resort\, 3499 US-76 W\, Hiawassee\, GA\, 30546\, United States
CATEGORIES:Holiday Events
ATTACH;FMTTYPE=image/jpeg:https://theridgesresort.com/wp-content/uploads/2025/09/HMN-Header.jpg
END:VEVENT
BEGIN:VEVENT
DTSTART;TZID=America/New_York:20251024T183000
DTEND;TZID=America/New_York:20251024T210000
DTSTAMP:20260423T131848
CREATED:20251006T192853Z
LAST-MODIFIED:20251006T192853Z
UID:10001850-1761330600-1761339600@theridgesresort.com
SUMMARY:Halloween Movie Nights
DESCRIPTION:Gather under the stars for cozy\, family-friendly frights on Friday and Saturday nights\, September 27 – November 1. We’ll light the fire pits\, cue the classics\, and keep the vibes spooky-sweet all season long. Movies begin at dusk; bring blankets or low lawn chairs. Concessions and warm drinks available for purchase. \nSchedule to be posted.
URL:https://theridgesresort.com/event/halloween-movie-nights-2/2025-10-24/
LOCATION:The Ridges Resort\, 3499 US-76 W\, Hiawassee\, GA\, 30546\, United States
CATEGORIES:Holiday Events
ATTACH;FMTTYPE=image/jpeg:https://theridgesresort.com/wp-content/uploads/2025/09/HMN-Header.jpg
END:VEVENT
BEGIN:VEVENT
DTSTART;TZID=America/New_York:20251018T183000
DTEND;TZID=America/New_York:20251018T210000
DTSTAMP:20260423T131848
CREATED:20250919T135231Z
LAST-MODIFIED:20251003T144011Z
UID:10001209-1760812200-1760821200@theridgesresort.com
SUMMARY:Halloween Movie Nights
DESCRIPTION:Gather under the stars for cozy\, family-friendly frights on Friday and Saturday nights\, September 27 – November 1. We’ll light the fire pits\, cue the classics\, and keep the vibes spooky-sweet all season long. Movies begin at dusk; bring blankets or low lawn chairs. Concessions and warm drinks available for purchase. \nSchedule to be posted.
URL:https://theridgesresort.com/event/halloween-movie-nights/2025-10-18/
LOCATION:The Ridges Resort\, 3499 US-76 W\, Hiawassee\, GA\, 30546\, United States
CATEGORIES:Holiday Events
ATTACH;FMTTYPE=image/jpeg:https://theridgesresort.com/wp-content/uploads/2025/09/HMN-Header.jpg
END:VEVENT
BEGIN:VEVENT
DTSTART;TZID=America/New_York:20251017T183000
DTEND;TZID=America/New_York:20251017T210000
DTSTAMP:20260423T131848
CREATED:20251006T192853Z
LAST-MODIFIED:20251006T192853Z
UID:10001849-1760725800-1760734800@theridgesresort.com
SUMMARY:Halloween Movie Nights
DESCRIPTION:Gather under the stars for cozy\, family-friendly frights on Friday and Saturday nights\, September 27 – November 1. We’ll light the fire pits\, cue the classics\, and keep the vibes spooky-sweet all season long. Movies begin at dusk; bring blankets or low lawn chairs. Concessions and warm drinks available for purchase. \nSchedule to be posted.
URL:https://theridgesresort.com/event/halloween-movie-nights-2/2025-10-17/
LOCATION:The Ridges Resort\, 3499 US-76 W\, Hiawassee\, GA\, 30546\, United States
CATEGORIES:Holiday Events
ATTACH;FMTTYPE=image/jpeg:https://theridgesresort.com/wp-content/uploads/2025/09/HMN-Header.jpg
END:VEVENT
BEGIN:VEVENT
DTSTART;TZID=America/New_York:20251011T183000
DTEND;TZID=America/New_York:20251011T210000
DTSTAMP:20260423T131848
CREATED:20250919T135231Z
LAST-MODIFIED:20251003T144011Z
UID:10001207-1760207400-1760216400@theridgesresort.com
SUMMARY:Halloween Movie Nights
DESCRIPTION:Gather under the stars for cozy\, family-friendly frights on Friday and Saturday nights\, September 27 – November 1. We’ll light the fire pits\, cue the classics\, and keep the vibes spooky-sweet all season long. Movies begin at dusk; bring blankets or low lawn chairs. Concessions and warm drinks available for purchase. \nSchedule to be posted.
URL:https://theridgesresort.com/event/halloween-movie-nights/2025-10-11/
LOCATION:The Ridges Resort\, 3499 US-76 W\, Hiawassee\, GA\, 30546\, United States
CATEGORIES:Holiday Events
ATTACH;FMTTYPE=image/jpeg:https://theridgesresort.com/wp-content/uploads/2025/09/HMN-Header.jpg
END:VEVENT
BEGIN:VEVENT
DTSTART;TZID=America/New_York:20251010T183000
DTEND;TZID=America/New_York:20251010T210000
DTSTAMP:20260423T131848
CREATED:20251006T192853Z
LAST-MODIFIED:20251006T192853Z
UID:10001848-1760121000-1760130000@theridgesresort.com
SUMMARY:Halloween Movie Nights
DESCRIPTION:Gather under the stars for cozy\, family-friendly frights on Friday and Saturday nights\, September 27 – November 1. We’ll light the fire pits\, cue the classics\, and keep the vibes spooky-sweet all season long. Movies begin at dusk; bring blankets or low lawn chairs. Concessions and warm drinks available for purchase. \nSchedule to be posted.
URL:https://theridgesresort.com/event/halloween-movie-nights-2/2025-10-10/
LOCATION:The Ridges Resort\, 3499 US-76 W\, Hiawassee\, GA\, 30546\, United States
CATEGORIES:Holiday Events
ATTACH;FMTTYPE=image/jpeg:https://theridgesresort.com/wp-content/uploads/2025/09/HMN-Header.jpg
END:VEVENT
BEGIN:VEVENT
DTSTART;TZID=America/New_York:20251004T183000
DTEND;TZID=America/New_York:20251004T210000
DTSTAMP:20260423T131848
CREATED:20250919T135231Z
LAST-MODIFIED:20251003T144011Z
UID:10001205-1759602600-1759611600@theridgesresort.com
SUMMARY:Halloween Movie Nights
DESCRIPTION:Gather under the stars for cozy\, family-friendly frights on Friday and Saturday nights\, September 27 – November 1. We’ll light the fire pits\, cue the classics\, and keep the vibes spooky-sweet all season long. Movies begin at dusk; bring blankets or low lawn chairs. Concessions and warm drinks available for purchase. \nSchedule to be posted.
URL:https://theridgesresort.com/event/halloween-movie-nights/2025-10-04/
LOCATION:The Ridges Resort\, 3499 US-76 W\, Hiawassee\, GA\, 30546\, United States
CATEGORIES:Holiday Events
ATTACH;FMTTYPE=image/jpeg:https://theridgesresort.com/wp-content/uploads/2025/09/HMN-Header.jpg
END:VEVENT
BEGIN:VEVENT
DTSTART;TZID=America/New_York:20250927T183000
DTEND;TZID=America/New_York:20250927T210000
DTSTAMP:20260423T131848
CREATED:20250919T135231Z
LAST-MODIFIED:20251003T144011Z
UID:10001203-1758997800-1759006800@theridgesresort.com
SUMMARY:Halloween Movie Nights
DESCRIPTION:Gather under the stars for cozy\, family-friendly frights on Friday and Saturday nights\, September 27 – November 1. We’ll light the fire pits\, cue the classics\, and keep the vibes spooky-sweet all season long. Movies begin at dusk; bring blankets or low lawn chairs. Concessions and warm drinks available for purchase. \nSchedule to be posted.
URL:https://theridgesresort.com/event/halloween-movie-nights/2025-09-27/
LOCATION:The Ridges Resort\, 3499 US-76 W\, Hiawassee\, GA\, 30546\, United States
CATEGORIES:Holiday Events
ATTACH;FMTTYPE=image/jpeg:https://theridgesresort.com/wp-content/uploads/2025/09/HMN-Header.jpg
END:VEVENT
BEGIN:VEVENT
DTSTART;TZID=America/New_York:20250704T210000
DTEND;TZID=America/New_York:20250704T220000
DTSTAMP:20260423T131848
CREATED:20250626T213445Z
LAST-MODIFIED:20250626T213445Z
UID:10001200-1751662800-1751666400@theridgesresort.com
SUMMARY:Fireworks at The Ridges
DESCRIPTION:
URL:https://theridgesresort.com/event/fireworks-at-the-ridges/
LOCATION:The Ridges Resort\, 3499 US-76 W\, Hiawassee\, GA\, 30546\, United States
CATEGORIES:Holiday Events
END:VEVENT
BEGIN:VEVENT
DTSTART;VALUE=DATE:20250509
DTEND;VALUE=DATE:20250512
DTSTAMP:20260423T131848
CREATED:20250210T173605Z
LAST-MODIFIED:20250210T173922Z
UID:10000002-1746748800-1747007999@theridgesresort.com
SUMMARY:Murder Mystery Weekend
DESCRIPTION:The Murder Mystery Weekend ™ Includes:\n• Accommodations for two nights\n• Friday welcome reception and hors d’oeuvres\n• Saturday breakfast\, lunch\, cocktail reception (cash bar) and dinner\n• Sunday breakfast and final solution with the awarding of prizes\n• All taxes and gratuities\n• Plus a unique and entertaining three day/two night Murder Mystery Weekend™ Adventure \nCall to Reserve Today!
URL:https://theridgesresort.com/event/murder-mystery-weekend/
LOCATION:The Ridges Resort\, 3499 US-76 W\, Hiawassee\, GA\, 30546\, United States
CATEGORIES:Featured Events,Stay Packages
ATTACH;FMTTYPE=image/jpeg:https://theridgesresort.com/wp-content/uploads/2023/09/Screenshot-2023-09-01-at-10.12.19-AM.jpg
END:VEVENT
BEGIN:VEVENT
DTSTART;TZID=America/New_York:20250420T140000
DTEND;TZID=America/New_York:20250420T150000
DTSTAMP:20260423T131848
CREATED:20250314T145319Z
LAST-MODIFIED:20250314T145319Z
UID:10000601-1745157600-1745161200@theridgesresort.com
SUMMARY:Easter Egg Hunt at The Ridges
DESCRIPTION:Easter Egg Hunt\nHop on over to The Ridges Resort for our annual Easter egg hunt on the lawn at 2:00 pm on Sunday\, April 20! Bring the whole family and enjoy an afternoon packed with fun\, laughter\, and the excitement of the hunt. Don’t miss this beloved Easter tradition at The Ridges Resort on Lake Chatuge! \nOpen to the public\, no charge to participate.
URL:https://theridgesresort.com/event/easter-egg-hunt-at-the-ridges/
LOCATION:The Ridges Resort\, 3499 US-76 W\, Hiawassee\, GA\, 30546\, United States
CATEGORIES:Featured Events,Holiday Events
ATTACH;FMTTYPE=image/jpeg:https://theridgesresort.com/wp-content/uploads/2025/03/TRR-EasterEggHunt.jpg
END:VEVENT
END:VCALENDAR