BEGIN:VCALENDAR
VERSION:2.0
PRODID:-//The Ridges Resort - ECPv6.15.20//NONSGML v1.0//EN
CALSCALE:GREGORIAN
METHOD:PUBLISH
X-ORIGINAL-URL:https://theridgesresort.com
X-WR-CALDESC:Events for The Ridges Resort
REFRESH-INTERVAL;VALUE=DURATION:PT1H
X-Robots-Tag:noindex
X-PUBLISHED-TTL:PT1H
BEGIN:VTIMEZONE
TZID:America/New_York
BEGIN:DAYLIGHT
TZOFFSETFROM:-0500
TZOFFSETTO:-0400
TZNAME:EDT
DTSTART:20250309T070000
END:DAYLIGHT
BEGIN:STANDARD
TZOFFSETFROM:-0400
TZOFFSETTO:-0500
TZNAME:EST
DTSTART:20251102T060000
END:STANDARD
BEGIN:DAYLIGHT
TZOFFSETFROM:-0500
TZOFFSETTO:-0400
TZNAME:EDT
DTSTART:20260308T070000
END:DAYLIGHT
BEGIN:STANDARD
TZOFFSETFROM:-0400
TZOFFSETTO:-0500
TZNAME:EST
DTSTART:20261101T060000
END:STANDARD
BEGIN:DAYLIGHT
TZOFFSETFROM:-0500
TZOFFSETTO:-0400
TZNAME:EDT
DTSTART:20270314T070000
END:DAYLIGHT
BEGIN:STANDARD
TZOFFSETFROM:-0400
TZOFFSETTO:-0500
TZNAME:EST
DTSTART:20271107T060000
END:STANDARD
END:VTIMEZONE
BEGIN:VEVENT
DTSTART;TZID=America/New_York:20260422T160000
DTEND;TZID=America/New_York:20260422T200000
DTSTAMP:20260421T114236
CREATED:20250313T175933Z
LAST-MODIFIED:20250313T180138Z
UID:10000397-1776873600-1776888000@theridgesresort.com
SUMMARY:Wine Wednesday at The Oaks
DESCRIPTION:Join us every Wednesday at The Oaks Lakeside Kitchen! Sip and savor with our special offers:\nGlass (house wine): $7\nSelect Bottles: Half Off\nPlus\, enjoy beautiful melodies from Mark Mentzer on our piano in the lounge. Don’t miss out on the perfect midweek treat.
URL:https://theridgesresort.com/event/wine-wednesday-at-the-oaks/2026-04-22/
LOCATION:The Oaks Lakeside Kitchen\, 3493 US-76 W\, Hiawassee\, GA\, 30546\, United States
CATEGORIES:Food & Drink,The Oaks Weekly Specials
END:VEVENT
BEGIN:VEVENT
DTSTART;TZID=America/New_York:20260423T180000
DTEND;TZID=America/New_York:20260423T200000
DTSTAMP:20260421T114236
CREATED:20260410T153149Z
LAST-MODIFIED:20260410T153149Z
UID:10001905-1776967200-1776974400@theridgesresort.com
SUMMARY:Trevor Ciongoli Live Under the Oaks
DESCRIPTION:Join us every Thursday evening from 6-8pm for an unforgettable night of live music! Enjoy the elevated ambiance\, calming tunes from talented local artists\, and delicious food and drinks. Whether you’re winding down your day or planning a relaxed night out\, this is the perfect way to savor the season in style.
URL:https://theridgesresort.com/event/trevor-ciongoli-live-under-the-oaks-3/
LOCATION:The Oaks Lakeside Kitchen\, 3493 US-76 W\, Hiawassee\, GA\, 30546\, United States
CATEGORIES:Live Music,Music & Entertainment
ATTACH;FMTTYPE=image/jpeg:https://theridgesresort.com/wp-content/uploads/2026/01/Trevor-Ciongoli-1-scaled.jpeg
END:VEVENT
BEGIN:VEVENT
DTSTART;TZID=America/New_York:20260429T160000
DTEND;TZID=America/New_York:20260429T200000
DTSTAMP:20260421T114236
CREATED:20250313T175933Z
LAST-MODIFIED:20250313T180138Z
UID:10000398-1777478400-1777492800@theridgesresort.com
SUMMARY:Wine Wednesday at The Oaks
DESCRIPTION:Join us every Wednesday at The Oaks Lakeside Kitchen! Sip and savor with our special offers:\nGlass (house wine): $7\nSelect Bottles: Half Off\nPlus\, enjoy beautiful melodies from Mark Mentzer on our piano in the lounge. Don’t miss out on the perfect midweek treat.
URL:https://theridgesresort.com/event/wine-wednesday-at-the-oaks/2026-04-29/
LOCATION:The Oaks Lakeside Kitchen\, 3493 US-76 W\, Hiawassee\, GA\, 30546\, United States
CATEGORIES:Food & Drink,The Oaks Weekly Specials
END:VEVENT
BEGIN:VEVENT
DTSTART;TZID=America/New_York:20260430T180000
DTEND;TZID=America/New_York:20260430T200000
DTSTAMP:20260421T114236
CREATED:20260410T154952Z
LAST-MODIFIED:20260410T154952Z
UID:10001908-1777572000-1777579200@theridgesresort.com
SUMMARY:John Cloy Live Under the Oaks
DESCRIPTION:Join us every Thursday evening from 6-8pm for an unforgettable night of live music! Enjoy the elevated ambiance\, calming tunes from talented local artists\, and delicious food and drinks. Whether you’re winding down your day or planning a relaxed night out\, this is the perfect way to savor the season in style.
URL:https://theridgesresort.com/event/john-cloy-live-under-the-oaks/
LOCATION:The Oaks Lakeside Kitchen\, 3493 US-76 W\, Hiawassee\, GA\, 30546\, United States
CATEGORIES:Live Music,Music & Entertainment
ATTACH;FMTTYPE=image/png:https://theridgesresort.com/wp-content/uploads/2026/04/IMG_9936-1-scaled.png
END:VEVENT
BEGIN:VEVENT
DTSTART;TZID=America/New_York:20260506T160000
DTEND;TZID=America/New_York:20260506T200000
DTSTAMP:20260421T114236
CREATED:20250313T175933Z
LAST-MODIFIED:20250313T180138Z
UID:10000399-1778083200-1778097600@theridgesresort.com
SUMMARY:Wine Wednesday at The Oaks
DESCRIPTION:Join us every Wednesday at The Oaks Lakeside Kitchen! Sip and savor with our special offers:\nGlass (house wine): $7\nSelect Bottles: Half Off\nPlus\, enjoy beautiful melodies from Mark Mentzer on our piano in the lounge. Don’t miss out on the perfect midweek treat.
URL:https://theridgesresort.com/event/wine-wednesday-at-the-oaks/2026-05-06/
LOCATION:The Oaks Lakeside Kitchen\, 3493 US-76 W\, Hiawassee\, GA\, 30546\, United States
CATEGORIES:Food & Drink,The Oaks Weekly Specials
END:VEVENT
BEGIN:VEVENT
DTSTART;TZID=America/New_York:20260507T180000
DTEND;TZID=America/New_York:20260507T200000
DTSTAMP:20260421T114236
CREATED:20260410T155233Z
LAST-MODIFIED:20260410T155233Z
UID:10001909-1778176800-1778184000@theridgesresort.com
SUMMARY:Trevor Ciongoli Live Under the Oaks
DESCRIPTION:Join us every Thursday evening from 6-8pm for an unforgettable night of live music! Enjoy the elevated ambiance\, calming tunes from talented local artists\, and delicious food and drinks. Whether you’re winding down your day or planning a relaxed night out\, this is the perfect way to savor the season in style.
URL:https://theridgesresort.com/event/trevor-ciongoli-live-under-the-oaks-4/
LOCATION:The Oaks Lakeside Kitchen\, 3493 US-76 W\, Hiawassee\, GA\, 30546\, United States
CATEGORIES:Live Music,Music & Entertainment
ATTACH;FMTTYPE=image/jpeg:https://theridgesresort.com/wp-content/uploads/2026/01/Trevor-Ciongoli-1-scaled.jpeg
END:VEVENT
BEGIN:VEVENT
DTSTART;TZID=America/New_York:20260512T173000
DTEND;TZID=America/New_York:20260512T190000
DTSTAMP:20260421T114236
CREATED:20250612T133203Z
LAST-MODIFIED:20250625T164644Z
UID:10000616-1778607000-1778612400@theridgesresort.com
SUMMARY:Barrel Club @ The Oaks
DESCRIPTION:The Oaks’ Barrel Club is your passport to a world of fine spirits and wines\, featuring exclusive tastings and expert-led sessions happening on the second Tuesday of every month. Whether you’re a bourbon buff\, a wine lover\, or eager to explore something new\, this is the perfect event for you. Join us to dive into a curated selection with specially paired small plates. Tickets include your tastings\, small plate pairings\, and 10% off dinner at The Oaks Lakeside Kitchen. Stay tuned for upcoming tastings featuring whiskey\, scotch\, and more! Get ready to raise a glass.
URL:https://theridgesresort.com/event/barrel-club-the-oaks-2/2026-05-12/
LOCATION:The Oaks Lakeside Kitchen\, 3493 US-76 W\, Hiawassee\, GA\, 30546\, United States
CATEGORIES:Food & Drink
ATTACH;FMTTYPE=image/jpeg:https://theridgesresort.com/wp-content/uploads/2025/04/TOLK-Barrel-Club-Logo.jpg
END:VEVENT
BEGIN:VEVENT
DTSTART;TZID=America/New_York:20260513T160000
DTEND;TZID=America/New_York:20260513T200000
DTSTAMP:20260421T114236
CREATED:20250313T175933Z
LAST-MODIFIED:20250313T180138Z
UID:10000400-1778688000-1778702400@theridgesresort.com
SUMMARY:Wine Wednesday at The Oaks
DESCRIPTION:Join us every Wednesday at The Oaks Lakeside Kitchen! Sip and savor with our special offers:\nGlass (house wine): $7\nSelect Bottles: Half Off\nPlus\, enjoy beautiful melodies from Mark Mentzer on our piano in the lounge. Don’t miss out on the perfect midweek treat.
URL:https://theridgesresort.com/event/wine-wednesday-at-the-oaks/2026-05-13/
LOCATION:The Oaks Lakeside Kitchen\, 3493 US-76 W\, Hiawassee\, GA\, 30546\, United States
CATEGORIES:Food & Drink,The Oaks Weekly Specials
END:VEVENT
BEGIN:VEVENT
DTSTART;TZID=America/New_York:20260520T160000
DTEND;TZID=America/New_York:20260520T200000
DTSTAMP:20260421T114236
CREATED:20250313T175933Z
LAST-MODIFIED:20250313T180138Z
UID:10000401-1779292800-1779307200@theridgesresort.com
SUMMARY:Wine Wednesday at The Oaks
DESCRIPTION:Join us every Wednesday at The Oaks Lakeside Kitchen! Sip and savor with our special offers:\nGlass (house wine): $7\nSelect Bottles: Half Off\nPlus\, enjoy beautiful melodies from Mark Mentzer on our piano in the lounge. Don’t miss out on the perfect midweek treat.
URL:https://theridgesresort.com/event/wine-wednesday-at-the-oaks/2026-05-20/
LOCATION:The Oaks Lakeside Kitchen\, 3493 US-76 W\, Hiawassee\, GA\, 30546\, United States
CATEGORIES:Food & Drink,The Oaks Weekly Specials
END:VEVENT
BEGIN:VEVENT
DTSTART;TZID=America/New_York:20260527T160000
DTEND;TZID=America/New_York:20260527T200000
DTSTAMP:20260421T114236
CREATED:20250313T175933Z
LAST-MODIFIED:20250313T180138Z
UID:10000402-1779897600-1779912000@theridgesresort.com
SUMMARY:Wine Wednesday at The Oaks
DESCRIPTION:Join us every Wednesday at The Oaks Lakeside Kitchen! Sip and savor with our special offers:\nGlass (house wine): $7\nSelect Bottles: Half Off\nPlus\, enjoy beautiful melodies from Mark Mentzer on our piano in the lounge. Don’t miss out on the perfect midweek treat.
URL:https://theridgesresort.com/event/wine-wednesday-at-the-oaks/2026-05-27/
LOCATION:The Oaks Lakeside Kitchen\, 3493 US-76 W\, Hiawassee\, GA\, 30546\, United States
CATEGORIES:Food & Drink,The Oaks Weekly Specials
END:VEVENT
BEGIN:VEVENT
DTSTART;TZID=America/New_York:20260528T180000
DTEND;TZID=America/New_York:20260528T200000
DTSTAMP:20260421T114236
CREATED:20260410T155416Z
LAST-MODIFIED:20260410T155416Z
UID:10001910-1779991200-1779998400@theridgesresort.com
SUMMARY:Trevor Ciongoli Live Under the Oaks
DESCRIPTION:Join us every Thursday evening from 6-8pm for an unforgettable night of live music! Enjoy the elevated ambiance\, calming tunes from talented local artists\, and delicious food and drinks. Whether you’re winding down your day or planning a relaxed night out\, this is the perfect way to savor the season in style.
URL:https://theridgesresort.com/event/trevor-ciongoli-live-under-the-oaks-5/
LOCATION:The Oaks Lakeside Kitchen\, 3493 US-76 W\, Hiawassee\, GA\, 30546\, United States
CATEGORIES:Live Music,Music & Entertainment
ATTACH;FMTTYPE=image/jpeg:https://theridgesresort.com/wp-content/uploads/2026/01/Trevor-Ciongoli-1-scaled.jpeg
END:VEVENT
BEGIN:VEVENT
DTSTART;TZID=America/New_York:20260603T160000
DTEND;TZID=America/New_York:20260603T200000
DTSTAMP:20260421T114236
CREATED:20250313T175933Z
LAST-MODIFIED:20250313T180138Z
UID:10000403-1780502400-1780516800@theridgesresort.com
SUMMARY:Wine Wednesday at The Oaks
DESCRIPTION:Join us every Wednesday at The Oaks Lakeside Kitchen! Sip and savor with our special offers:\nGlass (house wine): $7\nSelect Bottles: Half Off\nPlus\, enjoy beautiful melodies from Mark Mentzer on our piano in the lounge. Don’t miss out on the perfect midweek treat.
URL:https://theridgesresort.com/event/wine-wednesday-at-the-oaks/2026-06-03/
LOCATION:The Oaks Lakeside Kitchen\, 3493 US-76 W\, Hiawassee\, GA\, 30546\, United States
CATEGORIES:Food & Drink,The Oaks Weekly Specials
END:VEVENT
BEGIN:VEVENT
DTSTART;TZID=America/New_York:20260609T173000
DTEND;TZID=America/New_York:20260609T190000
DTSTAMP:20260421T114236
CREATED:20250612T133203Z
LAST-MODIFIED:20250625T164644Z
UID:10000617-1781026200-1781031600@theridgesresort.com
SUMMARY:Barrel Club @ The Oaks
DESCRIPTION:The Oaks’ Barrel Club is your passport to a world of fine spirits and wines\, featuring exclusive tastings and expert-led sessions happening on the second Tuesday of every month. Whether you’re a bourbon buff\, a wine lover\, or eager to explore something new\, this is the perfect event for you. Join us to dive into a curated selection with specially paired small plates. Tickets include your tastings\, small plate pairings\, and 10% off dinner at The Oaks Lakeside Kitchen. Stay tuned for upcoming tastings featuring whiskey\, scotch\, and more! Get ready to raise a glass.
URL:https://theridgesresort.com/event/barrel-club-the-oaks-2/2026-06-09/
LOCATION:The Oaks Lakeside Kitchen\, 3493 US-76 W\, Hiawassee\, GA\, 30546\, United States
CATEGORIES:Food & Drink
ATTACH;FMTTYPE=image/jpeg:https://theridgesresort.com/wp-content/uploads/2025/04/TOLK-Barrel-Club-Logo.jpg
END:VEVENT
BEGIN:VEVENT
DTSTART;TZID=America/New_York:20260610T160000
DTEND;TZID=America/New_York:20260610T200000
DTSTAMP:20260421T114236
CREATED:20250313T175933Z
LAST-MODIFIED:20250313T180138Z
UID:10000404-1781107200-1781121600@theridgesresort.com
SUMMARY:Wine Wednesday at The Oaks
DESCRIPTION:Join us every Wednesday at The Oaks Lakeside Kitchen! Sip and savor with our special offers:\nGlass (house wine): $7\nSelect Bottles: Half Off\nPlus\, enjoy beautiful melodies from Mark Mentzer on our piano in the lounge. Don’t miss out on the perfect midweek treat.
URL:https://theridgesresort.com/event/wine-wednesday-at-the-oaks/2026-06-10/
LOCATION:The Oaks Lakeside Kitchen\, 3493 US-76 W\, Hiawassee\, GA\, 30546\, United States
CATEGORIES:Food & Drink,The Oaks Weekly Specials
END:VEVENT
BEGIN:VEVENT
DTSTART;TZID=America/New_York:20260611T180000
DTEND;TZID=America/New_York:20260611T200000
DTSTAMP:20260421T114236
CREATED:20260410T160125Z
LAST-MODIFIED:20260410T160125Z
UID:10001911-1781200800-1781208000@theridgesresort.com
SUMMARY:Trevor Ciongoli Live Under the Oaks
DESCRIPTION:Join us every Thursday evening from 6-8pm for an unforgettable night of live music! Enjoy the elevated ambiance\, calming tunes from talented local artists\, and delicious food and drinks. Whether you’re winding down your day or planning a relaxed night out\, this is the perfect way to savor the season in style.
URL:https://theridgesresort.com/event/trevor-ciongoli-live-under-the-oaks-6/
LOCATION:The Oaks Lakeside Kitchen\, 3493 US-76 W\, Hiawassee\, GA\, 30546\, United States
CATEGORIES:Live Music,Music & Entertainment
ATTACH;FMTTYPE=image/jpeg:https://theridgesresort.com/wp-content/uploads/2026/01/Trevor-Ciongoli-1-scaled.jpeg
END:VEVENT
BEGIN:VEVENT
DTSTART;TZID=America/New_York:20260617T160000
DTEND;TZID=America/New_York:20260617T200000
DTSTAMP:20260421T114236
CREATED:20250313T175933Z
LAST-MODIFIED:20250313T180138Z
UID:10000405-1781712000-1781726400@theridgesresort.com
SUMMARY:Wine Wednesday at The Oaks
DESCRIPTION:Join us every Wednesday at The Oaks Lakeside Kitchen! Sip and savor with our special offers:\nGlass (house wine): $7\nSelect Bottles: Half Off\nPlus\, enjoy beautiful melodies from Mark Mentzer on our piano in the lounge. Don’t miss out on the perfect midweek treat.
URL:https://theridgesresort.com/event/wine-wednesday-at-the-oaks/2026-06-17/
LOCATION:The Oaks Lakeside Kitchen\, 3493 US-76 W\, Hiawassee\, GA\, 30546\, United States
CATEGORIES:Food & Drink,The Oaks Weekly Specials
END:VEVENT
BEGIN:VEVENT
DTSTART;TZID=America/New_York:20260624T160000
DTEND;TZID=America/New_York:20260624T200000
DTSTAMP:20260421T114236
CREATED:20250313T175933Z
LAST-MODIFIED:20250313T180138Z
UID:10000406-1782316800-1782331200@theridgesresort.com
SUMMARY:Wine Wednesday at The Oaks
DESCRIPTION:Join us every Wednesday at The Oaks Lakeside Kitchen! Sip and savor with our special offers:\nGlass (house wine): $7\nSelect Bottles: Half Off\nPlus\, enjoy beautiful melodies from Mark Mentzer on our piano in the lounge. Don’t miss out on the perfect midweek treat.
URL:https://theridgesresort.com/event/wine-wednesday-at-the-oaks/2026-06-24/
LOCATION:The Oaks Lakeside Kitchen\, 3493 US-76 W\, Hiawassee\, GA\, 30546\, United States
CATEGORIES:Food & Drink,The Oaks Weekly Specials
END:VEVENT
BEGIN:VEVENT
DTSTART;TZID=America/New_York:20260701T160000
DTEND;TZID=America/New_York:20260701T200000
DTSTAMP:20260421T114236
CREATED:20250313T175933Z
LAST-MODIFIED:20250313T180138Z
UID:10000407-1782921600-1782936000@theridgesresort.com
SUMMARY:Wine Wednesday at The Oaks
DESCRIPTION:Join us every Wednesday at The Oaks Lakeside Kitchen! Sip and savor with our special offers:\nGlass (house wine): $7\nSelect Bottles: Half Off\nPlus\, enjoy beautiful melodies from Mark Mentzer on our piano in the lounge. Don’t miss out on the perfect midweek treat.
URL:https://theridgesresort.com/event/wine-wednesday-at-the-oaks/2026-07-01/
LOCATION:The Oaks Lakeside Kitchen\, 3493 US-76 W\, Hiawassee\, GA\, 30546\, United States
CATEGORIES:Food & Drink,The Oaks Weekly Specials
END:VEVENT
BEGIN:VEVENT
DTSTART;TZID=America/New_York:20260708T160000
DTEND;TZID=America/New_York:20260708T200000
DTSTAMP:20260421T114236
CREATED:20250313T175933Z
LAST-MODIFIED:20250313T180138Z
UID:10000408-1783526400-1783540800@theridgesresort.com
SUMMARY:Wine Wednesday at The Oaks
DESCRIPTION:Join us every Wednesday at The Oaks Lakeside Kitchen! Sip and savor with our special offers:\nGlass (house wine): $7\nSelect Bottles: Half Off\nPlus\, enjoy beautiful melodies from Mark Mentzer on our piano in the lounge. Don’t miss out on the perfect midweek treat.
URL:https://theridgesresort.com/event/wine-wednesday-at-the-oaks/2026-07-08/
LOCATION:The Oaks Lakeside Kitchen\, 3493 US-76 W\, Hiawassee\, GA\, 30546\, United States
CATEGORIES:Food & Drink,The Oaks Weekly Specials
END:VEVENT
BEGIN:VEVENT
DTSTART;TZID=America/New_York:20260714T173000
DTEND;TZID=America/New_York:20260714T190000
DTSTAMP:20260421T114236
CREATED:20250612T133203Z
LAST-MODIFIED:20250625T164644Z
UID:10000618-1784050200-1784055600@theridgesresort.com
SUMMARY:Barrel Club @ The Oaks
DESCRIPTION:The Oaks’ Barrel Club is your passport to a world of fine spirits and wines\, featuring exclusive tastings and expert-led sessions happening on the second Tuesday of every month. Whether you’re a bourbon buff\, a wine lover\, or eager to explore something new\, this is the perfect event for you. Join us to dive into a curated selection with specially paired small plates. Tickets include your tastings\, small plate pairings\, and 10% off dinner at The Oaks Lakeside Kitchen. Stay tuned for upcoming tastings featuring whiskey\, scotch\, and more! Get ready to raise a glass.
URL:https://theridgesresort.com/event/barrel-club-the-oaks-2/2026-07-14/
LOCATION:The Oaks Lakeside Kitchen\, 3493 US-76 W\, Hiawassee\, GA\, 30546\, United States
CATEGORIES:Food & Drink
ATTACH;FMTTYPE=image/jpeg:https://theridgesresort.com/wp-content/uploads/2025/04/TOLK-Barrel-Club-Logo.jpg
END:VEVENT
BEGIN:VEVENT
DTSTART;TZID=America/New_York:20260715T160000
DTEND;TZID=America/New_York:20260715T200000
DTSTAMP:20260421T114236
CREATED:20250313T175933Z
LAST-MODIFIED:20250313T180138Z
UID:10000409-1784131200-1784145600@theridgesresort.com
SUMMARY:Wine Wednesday at The Oaks
DESCRIPTION:Join us every Wednesday at The Oaks Lakeside Kitchen! Sip and savor with our special offers:\nGlass (house wine): $7\nSelect Bottles: Half Off\nPlus\, enjoy beautiful melodies from Mark Mentzer on our piano in the lounge. Don’t miss out on the perfect midweek treat.
URL:https://theridgesresort.com/event/wine-wednesday-at-the-oaks/2026-07-15/
LOCATION:The Oaks Lakeside Kitchen\, 3493 US-76 W\, Hiawassee\, GA\, 30546\, United States
CATEGORIES:Food & Drink,The Oaks Weekly Specials
END:VEVENT
BEGIN:VEVENT
DTSTART;TZID=America/New_York:20260722T160000
DTEND;TZID=America/New_York:20260722T200000
DTSTAMP:20260421T114236
CREATED:20250313T175933Z
LAST-MODIFIED:20250313T180138Z
UID:10000410-1784736000-1784750400@theridgesresort.com
SUMMARY:Wine Wednesday at The Oaks
DESCRIPTION:Join us every Wednesday at The Oaks Lakeside Kitchen! Sip and savor with our special offers:\nGlass (house wine): $7\nSelect Bottles: Half Off\nPlus\, enjoy beautiful melodies from Mark Mentzer on our piano in the lounge. Don’t miss out on the perfect midweek treat.
URL:https://theridgesresort.com/event/wine-wednesday-at-the-oaks/2026-07-22/
LOCATION:The Oaks Lakeside Kitchen\, 3493 US-76 W\, Hiawassee\, GA\, 30546\, United States
CATEGORIES:Food & Drink,The Oaks Weekly Specials
END:VEVENT
BEGIN:VEVENT
DTSTART;TZID=America/New_York:20260729T160000
DTEND;TZID=America/New_York:20260729T200000
DTSTAMP:20260421T114236
CREATED:20250313T175933Z
LAST-MODIFIED:20250313T180138Z
UID:10000411-1785340800-1785355200@theridgesresort.com
SUMMARY:Wine Wednesday at The Oaks
DESCRIPTION:Join us every Wednesday at The Oaks Lakeside Kitchen! Sip and savor with our special offers:\nGlass (house wine): $7\nSelect Bottles: Half Off\nPlus\, enjoy beautiful melodies from Mark Mentzer on our piano in the lounge. Don’t miss out on the perfect midweek treat.
URL:https://theridgesresort.com/event/wine-wednesday-at-the-oaks/2026-07-29/
LOCATION:The Oaks Lakeside Kitchen\, 3493 US-76 W\, Hiawassee\, GA\, 30546\, United States
CATEGORIES:Food & Drink,The Oaks Weekly Specials
END:VEVENT
BEGIN:VEVENT
DTSTART;TZID=America/New_York:20260805T160000
DTEND;TZID=America/New_York:20260805T200000
DTSTAMP:20260421T114236
CREATED:20250313T175933Z
LAST-MODIFIED:20250313T180138Z
UID:10000412-1785945600-1785960000@theridgesresort.com
SUMMARY:Wine Wednesday at The Oaks
DESCRIPTION:Join us every Wednesday at The Oaks Lakeside Kitchen! Sip and savor with our special offers:\nGlass (house wine): $7\nSelect Bottles: Half Off\nPlus\, enjoy beautiful melodies from Mark Mentzer on our piano in the lounge. Don’t miss out on the perfect midweek treat.
URL:https://theridgesresort.com/event/wine-wednesday-at-the-oaks/2026-08-05/
LOCATION:The Oaks Lakeside Kitchen\, 3493 US-76 W\, Hiawassee\, GA\, 30546\, United States
CATEGORIES:Food & Drink,The Oaks Weekly Specials
END:VEVENT
BEGIN:VEVENT
DTSTART;TZID=America/New_York:20260811T173000
DTEND;TZID=America/New_York:20260811T190000
DTSTAMP:20260421T114236
CREATED:20250612T133203Z
LAST-MODIFIED:20250625T164644Z
UID:10000619-1786469400-1786474800@theridgesresort.com
SUMMARY:Barrel Club @ The Oaks
DESCRIPTION:The Oaks’ Barrel Club is your passport to a world of fine spirits and wines\, featuring exclusive tastings and expert-led sessions happening on the second Tuesday of every month. Whether you’re a bourbon buff\, a wine lover\, or eager to explore something new\, this is the perfect event for you. Join us to dive into a curated selection with specially paired small plates. Tickets include your tastings\, small plate pairings\, and 10% off dinner at The Oaks Lakeside Kitchen. Stay tuned for upcoming tastings featuring whiskey\, scotch\, and more! Get ready to raise a glass.
URL:https://theridgesresort.com/event/barrel-club-the-oaks-2/2026-08-11/
LOCATION:The Oaks Lakeside Kitchen\, 3493 US-76 W\, Hiawassee\, GA\, 30546\, United States
CATEGORIES:Food & Drink
ATTACH;FMTTYPE=image/jpeg:https://theridgesresort.com/wp-content/uploads/2025/04/TOLK-Barrel-Club-Logo.jpg
END:VEVENT
BEGIN:VEVENT
DTSTART;TZID=America/New_York:20260812T160000
DTEND;TZID=America/New_York:20260812T200000
DTSTAMP:20260421T114236
CREATED:20250313T175933Z
LAST-MODIFIED:20250313T180138Z
UID:10000413-1786550400-1786564800@theridgesresort.com
SUMMARY:Wine Wednesday at The Oaks
DESCRIPTION:Join us every Wednesday at The Oaks Lakeside Kitchen! Sip and savor with our special offers:\nGlass (house wine): $7\nSelect Bottles: Half Off\nPlus\, enjoy beautiful melodies from Mark Mentzer on our piano in the lounge. Don’t miss out on the perfect midweek treat.
URL:https://theridgesresort.com/event/wine-wednesday-at-the-oaks/2026-08-12/
LOCATION:The Oaks Lakeside Kitchen\, 3493 US-76 W\, Hiawassee\, GA\, 30546\, United States
CATEGORIES:Food & Drink,The Oaks Weekly Specials
END:VEVENT
BEGIN:VEVENT
DTSTART;TZID=America/New_York:20260819T160000
DTEND;TZID=America/New_York:20260819T200000
DTSTAMP:20260421T114236
CREATED:20250313T175933Z
LAST-MODIFIED:20250313T180138Z
UID:10000414-1787155200-1787169600@theridgesresort.com
SUMMARY:Wine Wednesday at The Oaks
DESCRIPTION:Join us every Wednesday at The Oaks Lakeside Kitchen! Sip and savor with our special offers:\nGlass (house wine): $7\nSelect Bottles: Half Off\nPlus\, enjoy beautiful melodies from Mark Mentzer on our piano in the lounge. Don’t miss out on the perfect midweek treat.
URL:https://theridgesresort.com/event/wine-wednesday-at-the-oaks/2026-08-19/
LOCATION:The Oaks Lakeside Kitchen\, 3493 US-76 W\, Hiawassee\, GA\, 30546\, United States
CATEGORIES:Food & Drink,The Oaks Weekly Specials
END:VEVENT
BEGIN:VEVENT
DTSTART;TZID=America/New_York:20260826T160000
DTEND;TZID=America/New_York:20260826T200000
DTSTAMP:20260421T114236
CREATED:20250313T175933Z
LAST-MODIFIED:20250313T180138Z
UID:10000415-1787760000-1787774400@theridgesresort.com
SUMMARY:Wine Wednesday at The Oaks
DESCRIPTION:Join us every Wednesday at The Oaks Lakeside Kitchen! Sip and savor with our special offers:\nGlass (house wine): $7\nSelect Bottles: Half Off\nPlus\, enjoy beautiful melodies from Mark Mentzer on our piano in the lounge. Don’t miss out on the perfect midweek treat.
URL:https://theridgesresort.com/event/wine-wednesday-at-the-oaks/2026-08-26/
LOCATION:The Oaks Lakeside Kitchen\, 3493 US-76 W\, Hiawassee\, GA\, 30546\, United States
CATEGORIES:Food & Drink,The Oaks Weekly Specials
END:VEVENT
BEGIN:VEVENT
DTSTART;TZID=America/New_York:20260902T160000
DTEND;TZID=America/New_York:20260902T200000
DTSTAMP:20260421T114236
CREATED:20250313T175933Z
LAST-MODIFIED:20250313T180138Z
UID:10000416-1788364800-1788379200@theridgesresort.com
SUMMARY:Wine Wednesday at The Oaks
DESCRIPTION:Join us every Wednesday at The Oaks Lakeside Kitchen! Sip and savor with our special offers:\nGlass (house wine): $7\nSelect Bottles: Half Off\nPlus\, enjoy beautiful melodies from Mark Mentzer on our piano in the lounge. Don’t miss out on the perfect midweek treat.
URL:https://theridgesresort.com/event/wine-wednesday-at-the-oaks/2026-09-02/
LOCATION:The Oaks Lakeside Kitchen\, 3493 US-76 W\, Hiawassee\, GA\, 30546\, United States
CATEGORIES:Food & Drink,The Oaks Weekly Specials
END:VEVENT
BEGIN:VEVENT
DTSTART;TZID=America/New_York:20260908T173000
DTEND;TZID=America/New_York:20260908T190000
DTSTAMP:20260421T114236
CREATED:20250612T133203Z
LAST-MODIFIED:20250625T164644Z
UID:10000620-1788888600-1788894000@theridgesresort.com
SUMMARY:Barrel Club @ The Oaks
DESCRIPTION:The Oaks’ Barrel Club is your passport to a world of fine spirits and wines\, featuring exclusive tastings and expert-led sessions happening on the second Tuesday of every month. Whether you’re a bourbon buff\, a wine lover\, or eager to explore something new\, this is the perfect event for you. Join us to dive into a curated selection with specially paired small plates. Tickets include your tastings\, small plate pairings\, and 10% off dinner at The Oaks Lakeside Kitchen. Stay tuned for upcoming tastings featuring whiskey\, scotch\, and more! Get ready to raise a glass.
URL:https://theridgesresort.com/event/barrel-club-the-oaks-2/2026-09-08/
LOCATION:The Oaks Lakeside Kitchen\, 3493 US-76 W\, Hiawassee\, GA\, 30546\, United States
CATEGORIES:Food & Drink
ATTACH;FMTTYPE=image/jpeg:https://theridgesresort.com/wp-content/uploads/2025/04/TOLK-Barrel-Club-Logo.jpg
END:VEVENT
END:VCALENDAR