BEGIN:VCALENDAR
VERSION:2.0
PRODID:-//The Ridges Resort - ECPv6.15.20//NONSGML v1.0//EN
CALSCALE:GREGORIAN
METHOD:PUBLISH
X-WR-CALNAME:The Ridges Resort
X-ORIGINAL-URL:https://theridgesresort.com
X-WR-CALDESC:Events for The Ridges Resort
REFRESH-INTERVAL;VALUE=DURATION:PT1H
X-Robots-Tag:noindex
X-PUBLISHED-TTL:PT1H
BEGIN:VTIMEZONE
TZID:America/New_York
BEGIN:DAYLIGHT
TZOFFSETFROM:-0500
TZOFFSETTO:-0400
TZNAME:EDT
DTSTART:20250309T070000
END:DAYLIGHT
BEGIN:STANDARD
TZOFFSETFROM:-0400
TZOFFSETTO:-0500
TZNAME:EST
DTSTART:20251102T060000
END:STANDARD
BEGIN:DAYLIGHT
TZOFFSETFROM:-0500
TZOFFSETTO:-0400
TZNAME:EDT
DTSTART:20260308T070000
END:DAYLIGHT
BEGIN:STANDARD
TZOFFSETFROM:-0400
TZOFFSETTO:-0500
TZNAME:EST
DTSTART:20261101T060000
END:STANDARD
BEGIN:DAYLIGHT
TZOFFSETFROM:-0500
TZOFFSETTO:-0400
TZNAME:EDT
DTSTART:20270314T070000
END:DAYLIGHT
BEGIN:STANDARD
TZOFFSETFROM:-0400
TZOFFSETTO:-0500
TZNAME:EST
DTSTART:20271107T060000
END:STANDARD
END:VTIMEZONE
BEGIN:VEVENT
DTSTART;TZID=America/New_York:20260501T190000
DTEND;TZID=America/New_York:20260501T220000
DTSTAMP:20260425T065514
CREATED:20250313T155832Z
LAST-MODIFIED:20250528T154826Z
UID:10000714-1777662000-1777672800@theridgesresort.com
SUMMARY:DJ Lori Karaoke
DESCRIPTION:
URL:https://theridgesresort.com/event/dj-lori-karaoke/2026-05-01/
LOCATION:Marina Station\, 3399 US Highway 76W\, Hiawassee\, GA\, 30546\, United States
CATEGORIES:Music & Entertainment
END:VEVENT
BEGIN:VEVENT
DTSTART;TZID=America/New_York:20260508T190000
DTEND;TZID=America/New_York:20260508T220000
DTSTAMP:20260425T065514
CREATED:20250313T155832Z
LAST-MODIFIED:20250528T154826Z
UID:10000715-1778266800-1778277600@theridgesresort.com
SUMMARY:DJ Lori Karaoke
DESCRIPTION:
URL:https://theridgesresort.com/event/dj-lori-karaoke/2026-05-08/
LOCATION:Marina Station\, 3399 US Highway 76W\, Hiawassee\, GA\, 30546\, United States
CATEGORIES:Music & Entertainment
END:VEVENT
BEGIN:VEVENT
DTSTART;TZID=America/New_York:20260515T190000
DTEND;TZID=America/New_York:20260515T220000
DTSTAMP:20260425T065514
CREATED:20250313T155832Z
LAST-MODIFIED:20250528T154826Z
UID:10000716-1778871600-1778882400@theridgesresort.com
SUMMARY:DJ Lori Karaoke
DESCRIPTION:
URL:https://theridgesresort.com/event/dj-lori-karaoke/2026-05-15/
LOCATION:Marina Station\, 3399 US Highway 76W\, Hiawassee\, GA\, 30546\, United States
CATEGORIES:Music & Entertainment
END:VEVENT
BEGIN:VEVENT
DTSTART;TZID=America/New_York:20260522T190000
DTEND;TZID=America/New_York:20260522T220000
DTSTAMP:20260425T065514
CREATED:20250313T155832Z
LAST-MODIFIED:20250528T154826Z
UID:10000717-1779476400-1779487200@theridgesresort.com
SUMMARY:DJ Lori Karaoke
DESCRIPTION:
URL:https://theridgesresort.com/event/dj-lori-karaoke/2026-05-22/
LOCATION:Marina Station\, 3399 US Highway 76W\, Hiawassee\, GA\, 30546\, United States
CATEGORIES:Music & Entertainment
END:VEVENT
BEGIN:VEVENT
DTSTART;TZID=America/New_York:20260529T190000
DTEND;TZID=America/New_York:20260529T220000
DTSTAMP:20260425T065514
CREATED:20250313T155832Z
LAST-MODIFIED:20250528T154826Z
UID:10000718-1780081200-1780092000@theridgesresort.com
SUMMARY:DJ Lori Karaoke
DESCRIPTION:
URL:https://theridgesresort.com/event/dj-lori-karaoke/2026-05-29/
LOCATION:Marina Station\, 3399 US Highway 76W\, Hiawassee\, GA\, 30546\, United States
CATEGORIES:Music & Entertainment
END:VEVENT
BEGIN:VEVENT
DTSTART;TZID=America/New_York:20260605T190000
DTEND;TZID=America/New_York:20260605T220000
DTSTAMP:20260425T065514
CREATED:20250313T155832Z
LAST-MODIFIED:20250528T154826Z
UID:10000719-1780686000-1780696800@theridgesresort.com
SUMMARY:DJ Lori Karaoke
DESCRIPTION:
URL:https://theridgesresort.com/event/dj-lori-karaoke/2026-06-05/
LOCATION:Marina Station\, 3399 US Highway 76W\, Hiawassee\, GA\, 30546\, United States
CATEGORIES:Music & Entertainment
END:VEVENT
BEGIN:VEVENT
DTSTART;TZID=America/New_York:20260612T190000
DTEND;TZID=America/New_York:20260612T220000
DTSTAMP:20260425T065514
CREATED:20250313T155832Z
LAST-MODIFIED:20250528T154826Z
UID:10000720-1781290800-1781301600@theridgesresort.com
SUMMARY:DJ Lori Karaoke
DESCRIPTION:
URL:https://theridgesresort.com/event/dj-lori-karaoke/2026-06-12/
LOCATION:Marina Station\, 3399 US Highway 76W\, Hiawassee\, GA\, 30546\, United States
CATEGORIES:Music & Entertainment
END:VEVENT
BEGIN:VEVENT
DTSTART;TZID=America/New_York:20260619T190000
DTEND;TZID=America/New_York:20260619T220000
DTSTAMP:20260425T065514
CREATED:20250313T155832Z
LAST-MODIFIED:20250528T154826Z
UID:10000721-1781895600-1781906400@theridgesresort.com
SUMMARY:DJ Lori Karaoke
DESCRIPTION:
URL:https://theridgesresort.com/event/dj-lori-karaoke/2026-06-19/
LOCATION:Marina Station\, 3399 US Highway 76W\, Hiawassee\, GA\, 30546\, United States
CATEGORIES:Music & Entertainment
END:VEVENT
BEGIN:VEVENT
DTSTART;TZID=America/New_York:20260626T190000
DTEND;TZID=America/New_York:20260626T220000
DTSTAMP:20260425T065514
CREATED:20250313T155832Z
LAST-MODIFIED:20250528T154826Z
UID:10000722-1782500400-1782511200@theridgesresort.com
SUMMARY:DJ Lori Karaoke
DESCRIPTION:
URL:https://theridgesresort.com/event/dj-lori-karaoke/2026-06-26/
LOCATION:Marina Station\, 3399 US Highway 76W\, Hiawassee\, GA\, 30546\, United States
CATEGORIES:Music & Entertainment
END:VEVENT
BEGIN:VEVENT
DTSTART;TZID=America/New_York:20260703T190000
DTEND;TZID=America/New_York:20260703T220000
DTSTAMP:20260425T065514
CREATED:20250313T155832Z
LAST-MODIFIED:20250528T154826Z
UID:10000723-1783105200-1783116000@theridgesresort.com
SUMMARY:DJ Lori Karaoke
DESCRIPTION:
URL:https://theridgesresort.com/event/dj-lori-karaoke/2026-07-03/
LOCATION:Marina Station\, 3399 US Highway 76W\, Hiawassee\, GA\, 30546\, United States
CATEGORIES:Music & Entertainment
END:VEVENT
BEGIN:VEVENT
DTSTART;TZID=America/New_York:20260710T190000
DTEND;TZID=America/New_York:20260710T220000
DTSTAMP:20260425T065514
CREATED:20250313T155832Z
LAST-MODIFIED:20250528T154826Z
UID:10000724-1783710000-1783720800@theridgesresort.com
SUMMARY:DJ Lori Karaoke
DESCRIPTION:
URL:https://theridgesresort.com/event/dj-lori-karaoke/2026-07-10/
LOCATION:Marina Station\, 3399 US Highway 76W\, Hiawassee\, GA\, 30546\, United States
CATEGORIES:Music & Entertainment
END:VEVENT
BEGIN:VEVENT
DTSTART;TZID=America/New_York:20260717T190000
DTEND;TZID=America/New_York:20260717T220000
DTSTAMP:20260425T065514
CREATED:20250313T155832Z
LAST-MODIFIED:20250528T154826Z
UID:10000725-1784314800-1784325600@theridgesresort.com
SUMMARY:DJ Lori Karaoke
DESCRIPTION:
URL:https://theridgesresort.com/event/dj-lori-karaoke/2026-07-17/
LOCATION:Marina Station\, 3399 US Highway 76W\, Hiawassee\, GA\, 30546\, United States
CATEGORIES:Music & Entertainment
END:VEVENT
BEGIN:VEVENT
DTSTART;TZID=America/New_York:20260724T190000
DTEND;TZID=America/New_York:20260724T220000
DTSTAMP:20260425T065514
CREATED:20250313T155832Z
LAST-MODIFIED:20250528T154826Z
UID:10000726-1784919600-1784930400@theridgesresort.com
SUMMARY:DJ Lori Karaoke
DESCRIPTION:
URL:https://theridgesresort.com/event/dj-lori-karaoke/2026-07-24/
LOCATION:Marina Station\, 3399 US Highway 76W\, Hiawassee\, GA\, 30546\, United States
CATEGORIES:Music & Entertainment
END:VEVENT
BEGIN:VEVENT
DTSTART;TZID=America/New_York:20260731T190000
DTEND;TZID=America/New_York:20260731T220000
DTSTAMP:20260425T065514
CREATED:20250313T155832Z
LAST-MODIFIED:20250528T154826Z
UID:10000727-1785524400-1785535200@theridgesresort.com
SUMMARY:DJ Lori Karaoke
DESCRIPTION:
URL:https://theridgesresort.com/event/dj-lori-karaoke/2026-07-31/
LOCATION:Marina Station\, 3399 US Highway 76W\, Hiawassee\, GA\, 30546\, United States
CATEGORIES:Music & Entertainment
END:VEVENT
BEGIN:VEVENT
DTSTART;TZID=America/New_York:20260807T190000
DTEND;TZID=America/New_York:20260807T220000
DTSTAMP:20260425T065514
CREATED:20250313T155832Z
LAST-MODIFIED:20250528T154826Z
UID:10000728-1786129200-1786140000@theridgesresort.com
SUMMARY:DJ Lori Karaoke
DESCRIPTION:
URL:https://theridgesresort.com/event/dj-lori-karaoke/2026-08-07/
LOCATION:Marina Station\, 3399 US Highway 76W\, Hiawassee\, GA\, 30546\, United States
CATEGORIES:Music & Entertainment
END:VEVENT
BEGIN:VEVENT
DTSTART;TZID=America/New_York:20260814T190000
DTEND;TZID=America/New_York:20260814T220000
DTSTAMP:20260425T065514
CREATED:20250313T155832Z
LAST-MODIFIED:20250528T154826Z
UID:10000729-1786734000-1786744800@theridgesresort.com
SUMMARY:DJ Lori Karaoke
DESCRIPTION:
URL:https://theridgesresort.com/event/dj-lori-karaoke/2026-08-14/
LOCATION:Marina Station\, 3399 US Highway 76W\, Hiawassee\, GA\, 30546\, United States
CATEGORIES:Music & Entertainment
END:VEVENT
BEGIN:VEVENT
DTSTART;TZID=America/New_York:20260821T190000
DTEND;TZID=America/New_York:20260821T220000
DTSTAMP:20260425T065514
CREATED:20250313T155832Z
LAST-MODIFIED:20250528T154826Z
UID:10000730-1787338800-1787349600@theridgesresort.com
SUMMARY:DJ Lori Karaoke
DESCRIPTION:
URL:https://theridgesresort.com/event/dj-lori-karaoke/2026-08-21/
LOCATION:Marina Station\, 3399 US Highway 76W\, Hiawassee\, GA\, 30546\, United States
CATEGORIES:Music & Entertainment
END:VEVENT
BEGIN:VEVENT
DTSTART;TZID=America/New_York:20260828T190000
DTEND;TZID=America/New_York:20260828T220000
DTSTAMP:20260425T065514
CREATED:20250313T155832Z
LAST-MODIFIED:20250528T154826Z
UID:10000731-1787943600-1787954400@theridgesresort.com
SUMMARY:DJ Lori Karaoke
DESCRIPTION:
URL:https://theridgesresort.com/event/dj-lori-karaoke/2026-08-28/
LOCATION:Marina Station\, 3399 US Highway 76W\, Hiawassee\, GA\, 30546\, United States
CATEGORIES:Music & Entertainment
END:VEVENT
BEGIN:VEVENT
DTSTART;TZID=America/New_York:20260904T190000
DTEND;TZID=America/New_York:20260904T220000
DTSTAMP:20260425T065514
CREATED:20250313T155832Z
LAST-MODIFIED:20250528T154826Z
UID:10000732-1788548400-1788559200@theridgesresort.com
SUMMARY:DJ Lori Karaoke
DESCRIPTION:
URL:https://theridgesresort.com/event/dj-lori-karaoke/2026-09-04/
LOCATION:Marina Station\, 3399 US Highway 76W\, Hiawassee\, GA\, 30546\, United States
CATEGORIES:Music & Entertainment
END:VEVENT
BEGIN:VEVENT
DTSTART;TZID=America/New_York:20260911T190000
DTEND;TZID=America/New_York:20260911T220000
DTSTAMP:20260425T065514
CREATED:20250313T155832Z
LAST-MODIFIED:20250528T154826Z
UID:10000733-1789153200-1789164000@theridgesresort.com
SUMMARY:DJ Lori Karaoke
DESCRIPTION:
URL:https://theridgesresort.com/event/dj-lori-karaoke/2026-09-11/
LOCATION:Marina Station\, 3399 US Highway 76W\, Hiawassee\, GA\, 30546\, United States
CATEGORIES:Music & Entertainment
END:VEVENT
BEGIN:VEVENT
DTSTART;TZID=America/New_York:20260918T190000
DTEND;TZID=America/New_York:20260918T220000
DTSTAMP:20260425T065514
CREATED:20250313T155832Z
LAST-MODIFIED:20250528T154826Z
UID:10000734-1789758000-1789768800@theridgesresort.com
SUMMARY:DJ Lori Karaoke
DESCRIPTION:
URL:https://theridgesresort.com/event/dj-lori-karaoke/2026-09-18/
LOCATION:Marina Station\, 3399 US Highway 76W\, Hiawassee\, GA\, 30546\, United States
CATEGORIES:Music & Entertainment
END:VEVENT
BEGIN:VEVENT
DTSTART;TZID=America/New_York:20260925T190000
DTEND;TZID=America/New_York:20260925T220000
DTSTAMP:20260425T065514
CREATED:20250313T155832Z
LAST-MODIFIED:20250528T154826Z
UID:10000735-1790362800-1790373600@theridgesresort.com
SUMMARY:DJ Lori Karaoke
DESCRIPTION:
URL:https://theridgesresort.com/event/dj-lori-karaoke/2026-09-25/
LOCATION:Marina Station\, 3399 US Highway 76W\, Hiawassee\, GA\, 30546\, United States
CATEGORIES:Music & Entertainment
END:VEVENT
BEGIN:VEVENT
DTSTART;TZID=America/New_York:20261002T190000
DTEND;TZID=America/New_York:20261002T220000
DTSTAMP:20260425T065514
CREATED:20250313T155832Z
LAST-MODIFIED:20250528T154826Z
UID:10000736-1790967600-1790978400@theridgesresort.com
SUMMARY:DJ Lori Karaoke
DESCRIPTION:
URL:https://theridgesresort.com/event/dj-lori-karaoke/2026-10-02/
LOCATION:Marina Station\, 3399 US Highway 76W\, Hiawassee\, GA\, 30546\, United States
CATEGORIES:Music & Entertainment
END:VEVENT
BEGIN:VEVENT
DTSTART;TZID=America/New_York:20261009T190000
DTEND;TZID=America/New_York:20261009T220000
DTSTAMP:20260425T065514
CREATED:20250313T155832Z
LAST-MODIFIED:20250528T154826Z
UID:10000737-1791572400-1791583200@theridgesresort.com
SUMMARY:DJ Lori Karaoke
DESCRIPTION:
URL:https://theridgesresort.com/event/dj-lori-karaoke/2026-10-09/
LOCATION:Marina Station\, 3399 US Highway 76W\, Hiawassee\, GA\, 30546\, United States
CATEGORIES:Music & Entertainment
END:VEVENT
BEGIN:VEVENT
DTSTART;TZID=America/New_York:20261016T190000
DTEND;TZID=America/New_York:20261016T220000
DTSTAMP:20260425T065514
CREATED:20250313T155832Z
LAST-MODIFIED:20250528T154826Z
UID:10000738-1792177200-1792188000@theridgesresort.com
SUMMARY:DJ Lori Karaoke
DESCRIPTION:
URL:https://theridgesresort.com/event/dj-lori-karaoke/2026-10-16/
LOCATION:Marina Station\, 3399 US Highway 76W\, Hiawassee\, GA\, 30546\, United States
CATEGORIES:Music & Entertainment
END:VEVENT
BEGIN:VEVENT
DTSTART;TZID=America/New_York:20261023T190000
DTEND;TZID=America/New_York:20261023T220000
DTSTAMP:20260425T065514
CREATED:20250313T155832Z
LAST-MODIFIED:20250528T154826Z
UID:10000739-1792782000-1792792800@theridgesresort.com
SUMMARY:DJ Lori Karaoke
DESCRIPTION:
URL:https://theridgesresort.com/event/dj-lori-karaoke/2026-10-23/
LOCATION:Marina Station\, 3399 US Highway 76W\, Hiawassee\, GA\, 30546\, United States
CATEGORIES:Music & Entertainment
END:VEVENT
BEGIN:VEVENT
DTSTART;TZID=America/New_York:20261030T190000
DTEND;TZID=America/New_York:20261030T220000
DTSTAMP:20260425T065514
CREATED:20250313T155832Z
LAST-MODIFIED:20250528T154826Z
UID:10000740-1793386800-1793397600@theridgesresort.com
SUMMARY:DJ Lori Karaoke
DESCRIPTION:
URL:https://theridgesresort.com/event/dj-lori-karaoke/2026-10-30/
LOCATION:Marina Station\, 3399 US Highway 76W\, Hiawassee\, GA\, 30546\, United States
CATEGORIES:Music & Entertainment
END:VEVENT
BEGIN:VEVENT
DTSTART;TZID=America/New_York:20261106T190000
DTEND;TZID=America/New_York:20261106T220000
DTSTAMP:20260425T065514
CREATED:20250313T155832Z
LAST-MODIFIED:20250528T154826Z
UID:10000741-1793991600-1794002400@theridgesresort.com
SUMMARY:DJ Lori Karaoke
DESCRIPTION:
URL:https://theridgesresort.com/event/dj-lori-karaoke/2026-11-06/
LOCATION:Marina Station\, 3399 US Highway 76W\, Hiawassee\, GA\, 30546\, United States
CATEGORIES:Music & Entertainment
END:VEVENT
BEGIN:VEVENT
DTSTART;TZID=America/New_York:20261113T190000
DTEND;TZID=America/New_York:20261113T220000
DTSTAMP:20260425T065514
CREATED:20250313T155832Z
LAST-MODIFIED:20250528T154826Z
UID:10000742-1794596400-1794607200@theridgesresort.com
SUMMARY:DJ Lori Karaoke
DESCRIPTION:
URL:https://theridgesresort.com/event/dj-lori-karaoke/2026-11-13/
LOCATION:Marina Station\, 3399 US Highway 76W\, Hiawassee\, GA\, 30546\, United States
CATEGORIES:Music & Entertainment
END:VEVENT
BEGIN:VEVENT
DTSTART;TZID=America/New_York:20261120T190000
DTEND;TZID=America/New_York:20261120T220000
DTSTAMP:20260425T065514
CREATED:20250313T155832Z
LAST-MODIFIED:20250528T154826Z
UID:10000743-1795201200-1795212000@theridgesresort.com
SUMMARY:DJ Lori Karaoke
DESCRIPTION:
URL:https://theridgesresort.com/event/dj-lori-karaoke/2026-11-20/
LOCATION:Marina Station\, 3399 US Highway 76W\, Hiawassee\, GA\, 30546\, United States
CATEGORIES:Music & Entertainment
END:VEVENT
END:VCALENDAR