BEGIN:VCALENDAR
VERSION:2.0
PRODID:-//The Ridges Resort - ECPv6.15.20//NONSGML v1.0//EN
CALSCALE:GREGORIAN
METHOD:PUBLISH
X-ORIGINAL-URL:https://theridgesresort.com
X-WR-CALDESC:Events for The Ridges Resort
REFRESH-INTERVAL;VALUE=DURATION:PT1H
X-Robots-Tag:noindex
X-PUBLISHED-TTL:PT1H
BEGIN:VTIMEZONE
TZID:America/New_York
BEGIN:DAYLIGHT
TZOFFSETFROM:-0500
TZOFFSETTO:-0400
TZNAME:EDT
DTSTART:20290311T070000
END:DAYLIGHT
BEGIN:STANDARD
TZOFFSETFROM:-0400
TZOFFSETTO:-0500
TZNAME:EST
DTSTART:20291104T060000
END:STANDARD
BEGIN:DAYLIGHT
TZOFFSETFROM:-0500
TZOFFSETTO:-0400
TZNAME:EDT
DTSTART:20300310T070000
END:DAYLIGHT
BEGIN:STANDARD
TZOFFSETFROM:-0400
TZOFFSETTO:-0500
TZNAME:EST
DTSTART:20301103T060000
END:STANDARD
BEGIN:DAYLIGHT
TZOFFSETFROM:-0500
TZOFFSETTO:-0400
TZNAME:EDT
DTSTART:20310309T070000
END:DAYLIGHT
BEGIN:STANDARD
TZOFFSETFROM:-0400
TZOFFSETTO:-0500
TZNAME:EST
DTSTART:20311102T060000
END:STANDARD
END:VTIMEZONE
BEGIN:VEVENT
DTSTART;TZID=America/New_York:20300215T190000
DTEND;TZID=America/New_York:20300215T220000
DTSTAMP:20260419T103917
CREATED:20250313T155832Z
LAST-MODIFIED:20250528T154826Z
UID:10000912-1897412400-1897423200@theridgesresort.com
SUMMARY:DJ Lori Karaoke
DESCRIPTION:
URL:https://theridgesresort.com/event/dj-lori-karaoke/2030-02-15/
LOCATION:Marina Station\, 3399 US Highway 76W\, Hiawassee\, GA\, 30546\, United States
CATEGORIES:Music & Entertainment
END:VEVENT
BEGIN:VEVENT
DTSTART;TZID=America/New_York:20300218T180000
DTEND;TZID=America/New_York:20300218T200000
DTSTAMP:20260419T103917
CREATED:20251003T141841Z
LAST-MODIFIED:20251003T141841Z
UID:10001546-1897668000-1897675200@theridgesresort.com
SUMMARY:Team Trivia with Becky
DESCRIPTION:Put your knowledge to the test with 6 fast-paced rounds of general trivia\, including fun music and picture rounds. Bring your friends\, form a team\, and compete for bragging rights in a lively\, lakeside atmosphere.
URL:https://theridgesresort.com/event/team-trivia-with-becky/2030-02-18/
LOCATION:Marina Station\, 3399 US Highway 76W\, Hiawassee\, GA\, 30546\, United States
CATEGORIES:Marina Station Weekly Specials,Music & Entertainment
END:VEVENT
BEGIN:VEVENT
DTSTART;TZID=America/New_York:20300222T190000
DTEND;TZID=America/New_York:20300222T220000
DTSTAMP:20260419T103917
CREATED:20250313T155832Z
LAST-MODIFIED:20250528T154826Z
UID:10000913-1898017200-1898028000@theridgesresort.com
SUMMARY:DJ Lori Karaoke
DESCRIPTION:
URL:https://theridgesresort.com/event/dj-lori-karaoke/2030-02-22/
LOCATION:Marina Station\, 3399 US Highway 76W\, Hiawassee\, GA\, 30546\, United States
CATEGORIES:Music & Entertainment
END:VEVENT
BEGIN:VEVENT
DTSTART;TZID=America/New_York:20300225T180000
DTEND;TZID=America/New_York:20300225T200000
DTSTAMP:20260419T103917
CREATED:20251003T141841Z
LAST-MODIFIED:20251003T141841Z
UID:10001547-1898272800-1898280000@theridgesresort.com
SUMMARY:Team Trivia with Becky
DESCRIPTION:Put your knowledge to the test with 6 fast-paced rounds of general trivia\, including fun music and picture rounds. Bring your friends\, form a team\, and compete for bragging rights in a lively\, lakeside atmosphere.
URL:https://theridgesresort.com/event/team-trivia-with-becky/2030-02-25/
LOCATION:Marina Station\, 3399 US Highway 76W\, Hiawassee\, GA\, 30546\, United States
CATEGORIES:Marina Station Weekly Specials,Music & Entertainment
END:VEVENT
BEGIN:VEVENT
DTSTART;TZID=America/New_York:20300301T190000
DTEND;TZID=America/New_York:20300301T220000
DTSTAMP:20260419T103917
CREATED:20250313T155832Z
LAST-MODIFIED:20250528T154826Z
UID:10000914-1898622000-1898632800@theridgesresort.com
SUMMARY:DJ Lori Karaoke
DESCRIPTION:
URL:https://theridgesresort.com/event/dj-lori-karaoke/2030-03-01/
LOCATION:Marina Station\, 3399 US Highway 76W\, Hiawassee\, GA\, 30546\, United States
CATEGORIES:Music & Entertainment
END:VEVENT
BEGIN:VEVENT
DTSTART;TZID=America/New_York:20300304T180000
DTEND;TZID=America/New_York:20300304T200000
DTSTAMP:20260419T103917
CREATED:20251003T141841Z
LAST-MODIFIED:20251003T141841Z
UID:10001548-1898877600-1898884800@theridgesresort.com
SUMMARY:Team Trivia with Becky
DESCRIPTION:Put your knowledge to the test with 6 fast-paced rounds of general trivia\, including fun music and picture rounds. Bring your friends\, form a team\, and compete for bragging rights in a lively\, lakeside atmosphere.
URL:https://theridgesresort.com/event/team-trivia-with-becky/2030-03-04/
LOCATION:Marina Station\, 3399 US Highway 76W\, Hiawassee\, GA\, 30546\, United States
CATEGORIES:Marina Station Weekly Specials,Music & Entertainment
END:VEVENT
BEGIN:VEVENT
DTSTART;TZID=America/New_York:20300308T190000
DTEND;TZID=America/New_York:20300308T220000
DTSTAMP:20260419T103917
CREATED:20250313T155832Z
LAST-MODIFIED:20250528T154826Z
UID:10000915-1899226800-1899237600@theridgesresort.com
SUMMARY:DJ Lori Karaoke
DESCRIPTION:
URL:https://theridgesresort.com/event/dj-lori-karaoke/2030-03-08/
LOCATION:Marina Station\, 3399 US Highway 76W\, Hiawassee\, GA\, 30546\, United States
CATEGORIES:Music & Entertainment
END:VEVENT
BEGIN:VEVENT
DTSTART;TZID=America/New_York:20300311T180000
DTEND;TZID=America/New_York:20300311T200000
DTSTAMP:20260419T103917
CREATED:20251003T141841Z
LAST-MODIFIED:20251003T141841Z
UID:10001549-1899482400-1899489600@theridgesresort.com
SUMMARY:Team Trivia with Becky
DESCRIPTION:Put your knowledge to the test with 6 fast-paced rounds of general trivia\, including fun music and picture rounds. Bring your friends\, form a team\, and compete for bragging rights in a lively\, lakeside atmosphere.
URL:https://theridgesresort.com/event/team-trivia-with-becky/2030-03-11/
LOCATION:Marina Station\, 3399 US Highway 76W\, Hiawassee\, GA\, 30546\, United States
CATEGORIES:Marina Station Weekly Specials,Music & Entertainment
END:VEVENT
BEGIN:VEVENT
DTSTART;TZID=America/New_York:20300315T190000
DTEND;TZID=America/New_York:20300315T220000
DTSTAMP:20260419T103917
CREATED:20250313T155832Z
LAST-MODIFIED:20250528T154826Z
UID:10000916-1899831600-1899842400@theridgesresort.com
SUMMARY:DJ Lori Karaoke
DESCRIPTION:
URL:https://theridgesresort.com/event/dj-lori-karaoke/2030-03-15/
LOCATION:Marina Station\, 3399 US Highway 76W\, Hiawassee\, GA\, 30546\, United States
CATEGORIES:Music & Entertainment
END:VEVENT
BEGIN:VEVENT
DTSTART;TZID=America/New_York:20300318T180000
DTEND;TZID=America/New_York:20300318T200000
DTSTAMP:20260419T103917
CREATED:20251003T141841Z
LAST-MODIFIED:20251003T141841Z
UID:10001550-1900087200-1900094400@theridgesresort.com
SUMMARY:Team Trivia with Becky
DESCRIPTION:Put your knowledge to the test with 6 fast-paced rounds of general trivia\, including fun music and picture rounds. Bring your friends\, form a team\, and compete for bragging rights in a lively\, lakeside atmosphere.
URL:https://theridgesresort.com/event/team-trivia-with-becky/2030-03-18/
LOCATION:Marina Station\, 3399 US Highway 76W\, Hiawassee\, GA\, 30546\, United States
CATEGORIES:Marina Station Weekly Specials,Music & Entertainment
END:VEVENT
BEGIN:VEVENT
DTSTART;TZID=America/New_York:20300322T190000
DTEND;TZID=America/New_York:20300322T220000
DTSTAMP:20260419T103917
CREATED:20250313T155832Z
LAST-MODIFIED:20250528T154826Z
UID:10000917-1900436400-1900447200@theridgesresort.com
SUMMARY:DJ Lori Karaoke
DESCRIPTION:
URL:https://theridgesresort.com/event/dj-lori-karaoke/2030-03-22/
LOCATION:Marina Station\, 3399 US Highway 76W\, Hiawassee\, GA\, 30546\, United States
CATEGORIES:Music & Entertainment
END:VEVENT
BEGIN:VEVENT
DTSTART;TZID=America/New_York:20300325T180000
DTEND;TZID=America/New_York:20300325T200000
DTSTAMP:20260419T103917
CREATED:20251003T141841Z
LAST-MODIFIED:20251003T141841Z
UID:10001551-1900692000-1900699200@theridgesresort.com
SUMMARY:Team Trivia with Becky
DESCRIPTION:Put your knowledge to the test with 6 fast-paced rounds of general trivia\, including fun music and picture rounds. Bring your friends\, form a team\, and compete for bragging rights in a lively\, lakeside atmosphere.
URL:https://theridgesresort.com/event/team-trivia-with-becky/2030-03-25/
LOCATION:Marina Station\, 3399 US Highway 76W\, Hiawassee\, GA\, 30546\, United States
CATEGORIES:Marina Station Weekly Specials,Music & Entertainment
END:VEVENT
BEGIN:VEVENT
DTSTART;TZID=America/New_York:20300329T190000
DTEND;TZID=America/New_York:20300329T220000
DTSTAMP:20260419T103917
CREATED:20250313T155832Z
LAST-MODIFIED:20250528T154826Z
UID:10000918-1901041200-1901052000@theridgesresort.com
SUMMARY:DJ Lori Karaoke
DESCRIPTION:
URL:https://theridgesresort.com/event/dj-lori-karaoke/2030-03-29/
LOCATION:Marina Station\, 3399 US Highway 76W\, Hiawassee\, GA\, 30546\, United States
CATEGORIES:Music & Entertainment
END:VEVENT
BEGIN:VEVENT
DTSTART;TZID=America/New_York:20300401T180000
DTEND;TZID=America/New_York:20300401T200000
DTSTAMP:20260419T103917
CREATED:20251003T141841Z
LAST-MODIFIED:20251003T141841Z
UID:10001552-1901296800-1901304000@theridgesresort.com
SUMMARY:Team Trivia with Becky
DESCRIPTION:Put your knowledge to the test with 6 fast-paced rounds of general trivia\, including fun music and picture rounds. Bring your friends\, form a team\, and compete for bragging rights in a lively\, lakeside atmosphere.
URL:https://theridgesresort.com/event/team-trivia-with-becky/2030-04-01/
LOCATION:Marina Station\, 3399 US Highway 76W\, Hiawassee\, GA\, 30546\, United States
CATEGORIES:Marina Station Weekly Specials,Music & Entertainment
END:VEVENT
BEGIN:VEVENT
DTSTART;TZID=America/New_York:20300405T190000
DTEND;TZID=America/New_York:20300405T220000
DTSTAMP:20260419T103917
CREATED:20250313T155832Z
LAST-MODIFIED:20250528T154826Z
UID:10000919-1901646000-1901656800@theridgesresort.com
SUMMARY:DJ Lori Karaoke
DESCRIPTION:
URL:https://theridgesresort.com/event/dj-lori-karaoke/2030-04-05/
LOCATION:Marina Station\, 3399 US Highway 76W\, Hiawassee\, GA\, 30546\, United States
CATEGORIES:Music & Entertainment
END:VEVENT
BEGIN:VEVENT
DTSTART;TZID=America/New_York:20300408T180000
DTEND;TZID=America/New_York:20300408T200000
DTSTAMP:20260419T103917
CREATED:20251003T141841Z
LAST-MODIFIED:20251003T141841Z
UID:10001553-1901901600-1901908800@theridgesresort.com
SUMMARY:Team Trivia with Becky
DESCRIPTION:Put your knowledge to the test with 6 fast-paced rounds of general trivia\, including fun music and picture rounds. Bring your friends\, form a team\, and compete for bragging rights in a lively\, lakeside atmosphere.
URL:https://theridgesresort.com/event/team-trivia-with-becky/2030-04-08/
LOCATION:Marina Station\, 3399 US Highway 76W\, Hiawassee\, GA\, 30546\, United States
CATEGORIES:Marina Station Weekly Specials,Music & Entertainment
END:VEVENT
BEGIN:VEVENT
DTSTART;TZID=America/New_York:20300412T190000
DTEND;TZID=America/New_York:20300412T220000
DTSTAMP:20260419T103917
CREATED:20250313T155832Z
LAST-MODIFIED:20250528T154826Z
UID:10000920-1902250800-1902261600@theridgesresort.com
SUMMARY:DJ Lori Karaoke
DESCRIPTION:
URL:https://theridgesresort.com/event/dj-lori-karaoke/2030-04-12/
LOCATION:Marina Station\, 3399 US Highway 76W\, Hiawassee\, GA\, 30546\, United States
CATEGORIES:Music & Entertainment
END:VEVENT
BEGIN:VEVENT
DTSTART;TZID=America/New_York:20300415T180000
DTEND;TZID=America/New_York:20300415T200000
DTSTAMP:20260419T103917
CREATED:20251003T141841Z
LAST-MODIFIED:20251003T141841Z
UID:10001554-1902506400-1902513600@theridgesresort.com
SUMMARY:Team Trivia with Becky
DESCRIPTION:Put your knowledge to the test with 6 fast-paced rounds of general trivia\, including fun music and picture rounds. Bring your friends\, form a team\, and compete for bragging rights in a lively\, lakeside atmosphere.
URL:https://theridgesresort.com/event/team-trivia-with-becky/2030-04-15/
LOCATION:Marina Station\, 3399 US Highway 76W\, Hiawassee\, GA\, 30546\, United States
CATEGORIES:Marina Station Weekly Specials,Music & Entertainment
END:VEVENT
BEGIN:VEVENT
DTSTART;TZID=America/New_York:20300419T190000
DTEND;TZID=America/New_York:20300419T220000
DTSTAMP:20260419T103917
CREATED:20250313T155832Z
LAST-MODIFIED:20250528T154826Z
UID:10000921-1902855600-1902866400@theridgesresort.com
SUMMARY:DJ Lori Karaoke
DESCRIPTION:
URL:https://theridgesresort.com/event/dj-lori-karaoke/2030-04-19/
LOCATION:Marina Station\, 3399 US Highway 76W\, Hiawassee\, GA\, 30546\, United States
CATEGORIES:Music & Entertainment
END:VEVENT
BEGIN:VEVENT
DTSTART;TZID=America/New_York:20300422T180000
DTEND;TZID=America/New_York:20300422T200000
DTSTAMP:20260419T103917
CREATED:20251003T141841Z
LAST-MODIFIED:20251003T141841Z
UID:10001555-1903111200-1903118400@theridgesresort.com
SUMMARY:Team Trivia with Becky
DESCRIPTION:Put your knowledge to the test with 6 fast-paced rounds of general trivia\, including fun music and picture rounds. Bring your friends\, form a team\, and compete for bragging rights in a lively\, lakeside atmosphere.
URL:https://theridgesresort.com/event/team-trivia-with-becky/2030-04-22/
LOCATION:Marina Station\, 3399 US Highway 76W\, Hiawassee\, GA\, 30546\, United States
CATEGORIES:Marina Station Weekly Specials,Music & Entertainment
END:VEVENT
BEGIN:VEVENT
DTSTART;TZID=America/New_York:20300426T190000
DTEND;TZID=America/New_York:20300426T220000
DTSTAMP:20260419T103917
CREATED:20250313T155832Z
LAST-MODIFIED:20250528T154826Z
UID:10000922-1903460400-1903471200@theridgesresort.com
SUMMARY:DJ Lori Karaoke
DESCRIPTION:
URL:https://theridgesresort.com/event/dj-lori-karaoke/2030-04-26/
LOCATION:Marina Station\, 3399 US Highway 76W\, Hiawassee\, GA\, 30546\, United States
CATEGORIES:Music & Entertainment
END:VEVENT
BEGIN:VEVENT
DTSTART;TZID=America/New_York:20300429T180000
DTEND;TZID=America/New_York:20300429T200000
DTSTAMP:20260419T103917
CREATED:20251003T141841Z
LAST-MODIFIED:20251003T141841Z
UID:10001556-1903716000-1903723200@theridgesresort.com
SUMMARY:Team Trivia with Becky
DESCRIPTION:Put your knowledge to the test with 6 fast-paced rounds of general trivia\, including fun music and picture rounds. Bring your friends\, form a team\, and compete for bragging rights in a lively\, lakeside atmosphere.
URL:https://theridgesresort.com/event/team-trivia-with-becky/2030-04-29/
LOCATION:Marina Station\, 3399 US Highway 76W\, Hiawassee\, GA\, 30546\, United States
CATEGORIES:Marina Station Weekly Specials,Music & Entertainment
END:VEVENT
BEGIN:VEVENT
DTSTART;TZID=America/New_York:20300503T190000
DTEND;TZID=America/New_York:20300503T220000
DTSTAMP:20260419T103917
CREATED:20250313T155832Z
LAST-MODIFIED:20250528T154826Z
UID:10000923-1904065200-1904076000@theridgesresort.com
SUMMARY:DJ Lori Karaoke
DESCRIPTION:
URL:https://theridgesresort.com/event/dj-lori-karaoke/2030-05-03/
LOCATION:Marina Station\, 3399 US Highway 76W\, Hiawassee\, GA\, 30546\, United States
CATEGORIES:Music & Entertainment
END:VEVENT
BEGIN:VEVENT
DTSTART;TZID=America/New_York:20300506T180000
DTEND;TZID=America/New_York:20300506T200000
DTSTAMP:20260419T103917
CREATED:20251003T141841Z
LAST-MODIFIED:20251003T141841Z
UID:10001557-1904320800-1904328000@theridgesresort.com
SUMMARY:Team Trivia with Becky
DESCRIPTION:Put your knowledge to the test with 6 fast-paced rounds of general trivia\, including fun music and picture rounds. Bring your friends\, form a team\, and compete for bragging rights in a lively\, lakeside atmosphere.
URL:https://theridgesresort.com/event/team-trivia-with-becky/2030-05-06/
LOCATION:Marina Station\, 3399 US Highway 76W\, Hiawassee\, GA\, 30546\, United States
CATEGORIES:Marina Station Weekly Specials,Music & Entertainment
END:VEVENT
BEGIN:VEVENT
DTSTART;TZID=America/New_York:20300510T190000
DTEND;TZID=America/New_York:20300510T220000
DTSTAMP:20260419T103917
CREATED:20250313T155832Z
LAST-MODIFIED:20250528T154826Z
UID:10000924-1904670000-1904680800@theridgesresort.com
SUMMARY:DJ Lori Karaoke
DESCRIPTION:
URL:https://theridgesresort.com/event/dj-lori-karaoke/2030-05-10/
LOCATION:Marina Station\, 3399 US Highway 76W\, Hiawassee\, GA\, 30546\, United States
CATEGORIES:Music & Entertainment
END:VEVENT
BEGIN:VEVENT
DTSTART;TZID=America/New_York:20300513T180000
DTEND;TZID=America/New_York:20300513T200000
DTSTAMP:20260419T103917
CREATED:20251003T141841Z
LAST-MODIFIED:20251003T141841Z
UID:10001558-1904925600-1904932800@theridgesresort.com
SUMMARY:Team Trivia with Becky
DESCRIPTION:Put your knowledge to the test with 6 fast-paced rounds of general trivia\, including fun music and picture rounds. Bring your friends\, form a team\, and compete for bragging rights in a lively\, lakeside atmosphere.
URL:https://theridgesresort.com/event/team-trivia-with-becky/2030-05-13/
LOCATION:Marina Station\, 3399 US Highway 76W\, Hiawassee\, GA\, 30546\, United States
CATEGORIES:Marina Station Weekly Specials,Music & Entertainment
END:VEVENT
BEGIN:VEVENT
DTSTART;TZID=America/New_York:20300517T190000
DTEND;TZID=America/New_York:20300517T220000
DTSTAMP:20260419T103917
CREATED:20250313T155832Z
LAST-MODIFIED:20250528T154826Z
UID:10000925-1905274800-1905285600@theridgesresort.com
SUMMARY:DJ Lori Karaoke
DESCRIPTION:
URL:https://theridgesresort.com/event/dj-lori-karaoke/2030-05-17/
LOCATION:Marina Station\, 3399 US Highway 76W\, Hiawassee\, GA\, 30546\, United States
CATEGORIES:Music & Entertainment
END:VEVENT
BEGIN:VEVENT
DTSTART;TZID=America/New_York:20300520T180000
DTEND;TZID=America/New_York:20300520T200000
DTSTAMP:20260419T103917
CREATED:20251003T141841Z
LAST-MODIFIED:20251003T141841Z
UID:10001559-1905530400-1905537600@theridgesresort.com
SUMMARY:Team Trivia with Becky
DESCRIPTION:Put your knowledge to the test with 6 fast-paced rounds of general trivia\, including fun music and picture rounds. Bring your friends\, form a team\, and compete for bragging rights in a lively\, lakeside atmosphere.
URL:https://theridgesresort.com/event/team-trivia-with-becky/2030-05-20/
LOCATION:Marina Station\, 3399 US Highway 76W\, Hiawassee\, GA\, 30546\, United States
CATEGORIES:Marina Station Weekly Specials,Music & Entertainment
END:VEVENT
BEGIN:VEVENT
DTSTART;TZID=America/New_York:20300524T190000
DTEND;TZID=America/New_York:20300524T220000
DTSTAMP:20260419T103917
CREATED:20250313T155832Z
LAST-MODIFIED:20250528T154826Z
UID:10000926-1905879600-1905890400@theridgesresort.com
SUMMARY:DJ Lori Karaoke
DESCRIPTION:
URL:https://theridgesresort.com/event/dj-lori-karaoke/2030-05-24/
LOCATION:Marina Station\, 3399 US Highway 76W\, Hiawassee\, GA\, 30546\, United States
CATEGORIES:Music & Entertainment
END:VEVENT
BEGIN:VEVENT
DTSTART;TZID=America/New_York:20300527T180000
DTEND;TZID=America/New_York:20300527T200000
DTSTAMP:20260419T103917
CREATED:20251003T141841Z
LAST-MODIFIED:20251003T141841Z
UID:10001560-1906135200-1906142400@theridgesresort.com
SUMMARY:Team Trivia with Becky
DESCRIPTION:Put your knowledge to the test with 6 fast-paced rounds of general trivia\, including fun music and picture rounds. Bring your friends\, form a team\, and compete for bragging rights in a lively\, lakeside atmosphere.
URL:https://theridgesresort.com/event/team-trivia-with-becky/2030-05-27/
LOCATION:Marina Station\, 3399 US Highway 76W\, Hiawassee\, GA\, 30546\, United States
CATEGORIES:Marina Station Weekly Specials,Music & Entertainment
END:VEVENT
END:VCALENDAR