BEGIN:VCALENDAR
VERSION:2.0
PRODID:-//The Ridges Resort - ECPv6.15.20//NONSGML v1.0//EN
CALSCALE:GREGORIAN
METHOD:PUBLISH
X-ORIGINAL-URL:https://theridgesresort.com
X-WR-CALDESC:Events for The Ridges Resort
REFRESH-INTERVAL;VALUE=DURATION:PT1H
X-Robots-Tag:noindex
X-PUBLISHED-TTL:PT1H
BEGIN:VTIMEZONE
TZID:America/New_York
BEGIN:DAYLIGHT
TZOFFSETFROM:-0500
TZOFFSETTO:-0400
TZNAME:EDT
DTSTART:20250309T070000
END:DAYLIGHT
BEGIN:STANDARD
TZOFFSETFROM:-0400
TZOFFSETTO:-0500
TZNAME:EST
DTSTART:20251102T060000
END:STANDARD
BEGIN:DAYLIGHT
TZOFFSETFROM:-0500
TZOFFSETTO:-0400
TZNAME:EDT
DTSTART:20260308T070000
END:DAYLIGHT
BEGIN:STANDARD
TZOFFSETFROM:-0400
TZOFFSETTO:-0500
TZNAME:EST
DTSTART:20261101T060000
END:STANDARD
BEGIN:DAYLIGHT
TZOFFSETFROM:-0500
TZOFFSETTO:-0400
TZNAME:EDT
DTSTART:20270314T070000
END:DAYLIGHT
BEGIN:STANDARD
TZOFFSETFROM:-0400
TZOFFSETTO:-0500
TZNAME:EST
DTSTART:20271107T060000
END:STANDARD
END:VTIMEZONE
BEGIN:VEVENT
DTSTART;TZID=America/New_York:20260123T190000
DTEND;TZID=America/New_York:20260123T220000
DTSTAMP:20260422T223307
CREATED:20250313T155832Z
LAST-MODIFIED:20250528T154826Z
UID:10000700-1769194800-1769205600@theridgesresort.com
SUMMARY:DJ Lori Karaoke
DESCRIPTION:
URL:https://theridgesresort.com/event/dj-lori-karaoke/2026-01-23/
LOCATION:Marina Station\, 3399 US Highway 76W\, Hiawassee\, GA\, 30546\, United States
CATEGORIES:Music & Entertainment
END:VEVENT
BEGIN:VEVENT
DTSTART;TZID=America/New_York:20260126T180000
DTEND;TZID=America/New_York:20260126T200000
DTSTAMP:20260422T223307
CREATED:20251003T141841Z
LAST-MODIFIED:20251003T141841Z
UID:10001334-1769450400-1769457600@theridgesresort.com
SUMMARY:Team Trivia with Becky
DESCRIPTION:Put your knowledge to the test with 6 fast-paced rounds of general trivia\, including fun music and picture rounds. Bring your friends\, form a team\, and compete for bragging rights in a lively\, lakeside atmosphere.
URL:https://theridgesresort.com/event/team-trivia-with-becky/2026-01-26/
LOCATION:Marina Station\, 3399 US Highway 76W\, Hiawassee\, GA\, 30546\, United States
CATEGORIES:Marina Station Weekly Specials,Music & Entertainment
END:VEVENT
BEGIN:VEVENT
DTSTART;TZID=America/New_York:20260130T190000
DTEND;TZID=America/New_York:20260130T220000
DTSTAMP:20260422T223307
CREATED:20250313T155832Z
LAST-MODIFIED:20250528T154826Z
UID:10000701-1769799600-1769810400@theridgesresort.com
SUMMARY:DJ Lori Karaoke
DESCRIPTION:
URL:https://theridgesresort.com/event/dj-lori-karaoke/2026-01-30/
LOCATION:Marina Station\, 3399 US Highway 76W\, Hiawassee\, GA\, 30546\, United States
CATEGORIES:Music & Entertainment
END:VEVENT
BEGIN:VEVENT
DTSTART;TZID=America/New_York:20260202T180000
DTEND;TZID=America/New_York:20260202T200000
DTSTAMP:20260422T223307
CREATED:20251003T141841Z
LAST-MODIFIED:20251003T141841Z
UID:10001335-1770055200-1770062400@theridgesresort.com
SUMMARY:Team Trivia with Becky
DESCRIPTION:Put your knowledge to the test with 6 fast-paced rounds of general trivia\, including fun music and picture rounds. Bring your friends\, form a team\, and compete for bragging rights in a lively\, lakeside atmosphere.
URL:https://theridgesresort.com/event/team-trivia-with-becky/2026-02-02/
LOCATION:Marina Station\, 3399 US Highway 76W\, Hiawassee\, GA\, 30546\, United States
CATEGORIES:Marina Station Weekly Specials,Music & Entertainment
END:VEVENT
BEGIN:VEVENT
DTSTART;TZID=America/New_York:20260206T190000
DTEND;TZID=America/New_York:20260206T220000
DTSTAMP:20260422T223307
CREATED:20250313T155832Z
LAST-MODIFIED:20250528T154826Z
UID:10000702-1770404400-1770415200@theridgesresort.com
SUMMARY:DJ Lori Karaoke
DESCRIPTION:
URL:https://theridgesresort.com/event/dj-lori-karaoke/2026-02-06/
LOCATION:Marina Station\, 3399 US Highway 76W\, Hiawassee\, GA\, 30546\, United States
CATEGORIES:Music & Entertainment
END:VEVENT
BEGIN:VEVENT
DTSTART;TZID=America/New_York:20260209T180000
DTEND;TZID=America/New_York:20260209T200000
DTSTAMP:20260422T223307
CREATED:20251003T141841Z
LAST-MODIFIED:20251003T141841Z
UID:10001336-1770660000-1770667200@theridgesresort.com
SUMMARY:Team Trivia with Becky
DESCRIPTION:Put your knowledge to the test with 6 fast-paced rounds of general trivia\, including fun music and picture rounds. Bring your friends\, form a team\, and compete for bragging rights in a lively\, lakeside atmosphere.
URL:https://theridgesresort.com/event/team-trivia-with-becky/2026-02-09/
LOCATION:Marina Station\, 3399 US Highway 76W\, Hiawassee\, GA\, 30546\, United States
CATEGORIES:Marina Station Weekly Specials,Music & Entertainment
END:VEVENT
BEGIN:VEVENT
DTSTART;TZID=America/New_York:20260213T190000
DTEND;TZID=America/New_York:20260213T220000
DTSTAMP:20260422T223307
CREATED:20250313T155832Z
LAST-MODIFIED:20250528T154826Z
UID:10000703-1771009200-1771020000@theridgesresort.com
SUMMARY:DJ Lori Karaoke
DESCRIPTION:
URL:https://theridgesresort.com/event/dj-lori-karaoke/2026-02-13/
LOCATION:Marina Station\, 3399 US Highway 76W\, Hiawassee\, GA\, 30546\, United States
CATEGORIES:Music & Entertainment
END:VEVENT
BEGIN:VEVENT
DTSTART;TZID=America/New_York:20260214T170000
DTEND;TZID=America/New_York:20260214T200000
DTSTAMP:20260422T223307
CREATED:20260205T090022Z
LAST-MODIFIED:20260205T211201Z
UID:10001884-1771088400-1771099200@theridgesresort.com
SUMMARY:Jay Memory Live at Marina Station
DESCRIPTION:Join us Saturday\, February 14th from 5pm-8pm for LIVE music from Jay Memory!
URL:https://theridgesresort.com/event/jay-memory-live-at-marina-station-2/
LOCATION:Marina Station\, 3399 US Highway 76W\, Hiawassee\, GA\, 30546\, United States
CATEGORIES:Music & Entertainment
ATTACH;FMTTYPE=image/jpeg:https://theridgesresort.com/wp-content/uploads/2025/03/Jay-Memory.jpg
END:VEVENT
BEGIN:VEVENT
DTSTART;TZID=America/New_York:20260216T180000
DTEND;TZID=America/New_York:20260216T200000
DTSTAMP:20260422T223307
CREATED:20251003T141841Z
LAST-MODIFIED:20251003T141841Z
UID:10001337-1771264800-1771272000@theridgesresort.com
SUMMARY:Team Trivia with Becky
DESCRIPTION:Put your knowledge to the test with 6 fast-paced rounds of general trivia\, including fun music and picture rounds. Bring your friends\, form a team\, and compete for bragging rights in a lively\, lakeside atmosphere.
URL:https://theridgesresort.com/event/team-trivia-with-becky/2026-02-16/
LOCATION:Marina Station\, 3399 US Highway 76W\, Hiawassee\, GA\, 30546\, United States
CATEGORIES:Marina Station Weekly Specials,Music & Entertainment
END:VEVENT
BEGIN:VEVENT
DTSTART;TZID=America/New_York:20260220T190000
DTEND;TZID=America/New_York:20260220T220000
DTSTAMP:20260422T223307
CREATED:20250313T155832Z
LAST-MODIFIED:20250528T154826Z
UID:10000704-1771614000-1771624800@theridgesresort.com
SUMMARY:DJ Lori Karaoke
DESCRIPTION:
URL:https://theridgesresort.com/event/dj-lori-karaoke/2026-02-20/
LOCATION:Marina Station\, 3399 US Highway 76W\, Hiawassee\, GA\, 30546\, United States
CATEGORIES:Music & Entertainment
END:VEVENT
BEGIN:VEVENT
DTSTART;TZID=America/New_York:20260223T180000
DTEND;TZID=America/New_York:20260223T200000
DTSTAMP:20260422T223307
CREATED:20251003T141841Z
LAST-MODIFIED:20251003T141841Z
UID:10001338-1771869600-1771876800@theridgesresort.com
SUMMARY:Team Trivia with Becky
DESCRIPTION:Put your knowledge to the test with 6 fast-paced rounds of general trivia\, including fun music and picture rounds. Bring your friends\, form a team\, and compete for bragging rights in a lively\, lakeside atmosphere.
URL:https://theridgesresort.com/event/team-trivia-with-becky/2026-02-23/
LOCATION:Marina Station\, 3399 US Highway 76W\, Hiawassee\, GA\, 30546\, United States
CATEGORIES:Marina Station Weekly Specials,Music & Entertainment
END:VEVENT
BEGIN:VEVENT
DTSTART;TZID=America/New_York:20260227T190000
DTEND;TZID=America/New_York:20260227T220000
DTSTAMP:20260422T223307
CREATED:20250313T155832Z
LAST-MODIFIED:20250528T154826Z
UID:10000705-1772218800-1772229600@theridgesresort.com
SUMMARY:DJ Lori Karaoke
DESCRIPTION:
URL:https://theridgesresort.com/event/dj-lori-karaoke/2026-02-27/
LOCATION:Marina Station\, 3399 US Highway 76W\, Hiawassee\, GA\, 30546\, United States
CATEGORIES:Music & Entertainment
END:VEVENT
BEGIN:VEVENT
DTSTART;TZID=America/New_York:20260302T180000
DTEND;TZID=America/New_York:20260302T200000
DTSTAMP:20260422T223307
CREATED:20251003T141841Z
LAST-MODIFIED:20251003T141841Z
UID:10001339-1772474400-1772481600@theridgesresort.com
SUMMARY:Team Trivia with Becky
DESCRIPTION:Put your knowledge to the test with 6 fast-paced rounds of general trivia\, including fun music and picture rounds. Bring your friends\, form a team\, and compete for bragging rights in a lively\, lakeside atmosphere.
URL:https://theridgesresort.com/event/team-trivia-with-becky/2026-03-02/
LOCATION:Marina Station\, 3399 US Highway 76W\, Hiawassee\, GA\, 30546\, United States
CATEGORIES:Marina Station Weekly Specials,Music & Entertainment
END:VEVENT
BEGIN:VEVENT
DTSTART;TZID=America/New_York:20260306T190000
DTEND;TZID=America/New_York:20260306T220000
DTSTAMP:20260422T223307
CREATED:20250313T155832Z
LAST-MODIFIED:20250528T154826Z
UID:10000706-1772823600-1772834400@theridgesresort.com
SUMMARY:DJ Lori Karaoke
DESCRIPTION:
URL:https://theridgesresort.com/event/dj-lori-karaoke/2026-03-06/
LOCATION:Marina Station\, 3399 US Highway 76W\, Hiawassee\, GA\, 30546\, United States
CATEGORIES:Music & Entertainment
END:VEVENT
BEGIN:VEVENT
DTSTART;TZID=America/New_York:20260309T180000
DTEND;TZID=America/New_York:20260309T200000
DTSTAMP:20260422T223307
CREATED:20251003T141841Z
LAST-MODIFIED:20251003T141841Z
UID:10001340-1773079200-1773086400@theridgesresort.com
SUMMARY:Team Trivia with Becky
DESCRIPTION:Put your knowledge to the test with 6 fast-paced rounds of general trivia\, including fun music and picture rounds. Bring your friends\, form a team\, and compete for bragging rights in a lively\, lakeside atmosphere.
URL:https://theridgesresort.com/event/team-trivia-with-becky/2026-03-09/
LOCATION:Marina Station\, 3399 US Highway 76W\, Hiawassee\, GA\, 30546\, United States
CATEGORIES:Marina Station Weekly Specials,Music & Entertainment
END:VEVENT
BEGIN:VEVENT
DTSTART;TZID=America/New_York:20260313T190000
DTEND;TZID=America/New_York:20260313T220000
DTSTAMP:20260422T223307
CREATED:20250313T155832Z
LAST-MODIFIED:20250528T154826Z
UID:10000707-1773428400-1773439200@theridgesresort.com
SUMMARY:DJ Lori Karaoke
DESCRIPTION:
URL:https://theridgesresort.com/event/dj-lori-karaoke/2026-03-13/
LOCATION:Marina Station\, 3399 US Highway 76W\, Hiawassee\, GA\, 30546\, United States
CATEGORIES:Music & Entertainment
END:VEVENT
BEGIN:VEVENT
DTSTART;TZID=America/New_York:20260316T180000
DTEND;TZID=America/New_York:20260316T200000
DTSTAMP:20260422T223307
CREATED:20251003T141841Z
LAST-MODIFIED:20251003T141841Z
UID:10001341-1773684000-1773691200@theridgesresort.com
SUMMARY:Team Trivia with Becky
DESCRIPTION:Put your knowledge to the test with 6 fast-paced rounds of general trivia\, including fun music and picture rounds. Bring your friends\, form a team\, and compete for bragging rights in a lively\, lakeside atmosphere.
URL:https://theridgesresort.com/event/team-trivia-with-becky/2026-03-16/
LOCATION:Marina Station\, 3399 US Highway 76W\, Hiawassee\, GA\, 30546\, United States
CATEGORIES:Marina Station Weekly Specials,Music & Entertainment
END:VEVENT
BEGIN:VEVENT
DTSTART;TZID=America/New_York:20260320T190000
DTEND;TZID=America/New_York:20260320T220000
DTSTAMP:20260422T223307
CREATED:20250313T155832Z
LAST-MODIFIED:20250528T154826Z
UID:10000708-1774033200-1774044000@theridgesresort.com
SUMMARY:DJ Lori Karaoke
DESCRIPTION:
URL:https://theridgesresort.com/event/dj-lori-karaoke/2026-03-20/
LOCATION:Marina Station\, 3399 US Highway 76W\, Hiawassee\, GA\, 30546\, United States
CATEGORIES:Music & Entertainment
END:VEVENT
BEGIN:VEVENT
DTSTART;TZID=America/New_York:20260323T180000
DTEND;TZID=America/New_York:20260323T200000
DTSTAMP:20260422T223307
CREATED:20251003T141841Z
LAST-MODIFIED:20251003T141841Z
UID:10001342-1774288800-1774296000@theridgesresort.com
SUMMARY:Team Trivia with Becky
DESCRIPTION:Put your knowledge to the test with 6 fast-paced rounds of general trivia\, including fun music and picture rounds. Bring your friends\, form a team\, and compete for bragging rights in a lively\, lakeside atmosphere.
URL:https://theridgesresort.com/event/team-trivia-with-becky/2026-03-23/
LOCATION:Marina Station\, 3399 US Highway 76W\, Hiawassee\, GA\, 30546\, United States
CATEGORIES:Marina Station Weekly Specials,Music & Entertainment
END:VEVENT
BEGIN:VEVENT
DTSTART;TZID=America/New_York:20260327T190000
DTEND;TZID=America/New_York:20260327T220000
DTSTAMP:20260422T223307
CREATED:20250313T155832Z
LAST-MODIFIED:20250528T154826Z
UID:10000709-1774638000-1774648800@theridgesresort.com
SUMMARY:DJ Lori Karaoke
DESCRIPTION:
URL:https://theridgesresort.com/event/dj-lori-karaoke/2026-03-27/
LOCATION:Marina Station\, 3399 US Highway 76W\, Hiawassee\, GA\, 30546\, United States
CATEGORIES:Music & Entertainment
END:VEVENT
BEGIN:VEVENT
DTSTART;TZID=America/New_York:20260330T180000
DTEND;TZID=America/New_York:20260330T200000
DTSTAMP:20260422T223307
CREATED:20251003T141841Z
LAST-MODIFIED:20251003T141841Z
UID:10001343-1774893600-1774900800@theridgesresort.com
SUMMARY:Team Trivia with Becky
DESCRIPTION:Put your knowledge to the test with 6 fast-paced rounds of general trivia\, including fun music and picture rounds. Bring your friends\, form a team\, and compete for bragging rights in a lively\, lakeside atmosphere.
URL:https://theridgesresort.com/event/team-trivia-with-becky/2026-03-30/
LOCATION:Marina Station\, 3399 US Highway 76W\, Hiawassee\, GA\, 30546\, United States
CATEGORIES:Marina Station Weekly Specials,Music & Entertainment
END:VEVENT
BEGIN:VEVENT
DTSTART;TZID=America/New_York:20260403T190000
DTEND;TZID=America/New_York:20260403T220000
DTSTAMP:20260422T223307
CREATED:20250313T155832Z
LAST-MODIFIED:20250528T154826Z
UID:10000710-1775242800-1775253600@theridgesresort.com
SUMMARY:DJ Lori Karaoke
DESCRIPTION:
URL:https://theridgesresort.com/event/dj-lori-karaoke/2026-04-03/
LOCATION:Marina Station\, 3399 US Highway 76W\, Hiawassee\, GA\, 30546\, United States
CATEGORIES:Music & Entertainment
END:VEVENT
BEGIN:VEVENT
DTSTART;TZID=America/New_York:20260406T180000
DTEND;TZID=America/New_York:20260406T200000
DTSTAMP:20260422T223307
CREATED:20251003T141841Z
LAST-MODIFIED:20251003T141841Z
UID:10001344-1775498400-1775505600@theridgesresort.com
SUMMARY:Team Trivia with Becky
DESCRIPTION:Put your knowledge to the test with 6 fast-paced rounds of general trivia\, including fun music and picture rounds. Bring your friends\, form a team\, and compete for bragging rights in a lively\, lakeside atmosphere.
URL:https://theridgesresort.com/event/team-trivia-with-becky/2026-04-06/
LOCATION:Marina Station\, 3399 US Highway 76W\, Hiawassee\, GA\, 30546\, United States
CATEGORIES:Marina Station Weekly Specials,Music & Entertainment
END:VEVENT
BEGIN:VEVENT
DTSTART;TZID=America/New_York:20260410T190000
DTEND;TZID=America/New_York:20260410T220000
DTSTAMP:20260422T223307
CREATED:20250313T155832Z
LAST-MODIFIED:20250528T154826Z
UID:10000711-1775847600-1775858400@theridgesresort.com
SUMMARY:DJ Lori Karaoke
DESCRIPTION:
URL:https://theridgesresort.com/event/dj-lori-karaoke/2026-04-10/
LOCATION:Marina Station\, 3399 US Highway 76W\, Hiawassee\, GA\, 30546\, United States
CATEGORIES:Music & Entertainment
END:VEVENT
BEGIN:VEVENT
DTSTART;TZID=America/New_York:20260413T180000
DTEND;TZID=America/New_York:20260413T200000
DTSTAMP:20260422T223307
CREATED:20251003T141841Z
LAST-MODIFIED:20251003T141841Z
UID:10001345-1776103200-1776110400@theridgesresort.com
SUMMARY:Team Trivia with Becky
DESCRIPTION:Put your knowledge to the test with 6 fast-paced rounds of general trivia\, including fun music and picture rounds. Bring your friends\, form a team\, and compete for bragging rights in a lively\, lakeside atmosphere.
URL:https://theridgesresort.com/event/team-trivia-with-becky/2026-04-13/
LOCATION:Marina Station\, 3399 US Highway 76W\, Hiawassee\, GA\, 30546\, United States
CATEGORIES:Marina Station Weekly Specials,Music & Entertainment
END:VEVENT
BEGIN:VEVENT
DTSTART;TZID=America/New_York:20260416T080000
DTEND;TZID=America/New_York:20260416T170000
DTSTAMP:20260422T223307
CREATED:20260410T154431Z
LAST-MODIFIED:20260410T154431Z
UID:10001906-1776326400-1776358800@theridgesresort.com
SUMMARY:Lindsay Beth Harper Live Under the Oaks
DESCRIPTION:Join us every Thursday evening from 6-8pm for an unforgettable night of live music! Enjoy the elevated ambiance\, calming tunes from talented local artists\, and delicious food and drinks. Whether you’re winding down your day or planning a relaxed night out\, this is the perfect way to savor the season in style.
URL:https://theridgesresort.com/event/lindsay-beth-harper-live-under-the-oaks/2026-04-16/1/
LOCATION:The Oaks Lakeside Kitchen\, 3493 US-76 W\, Hiawassee\, GA\, 30546\, United States
CATEGORIES:Live Music,Music & Entertainment
ATTACH;FMTTYPE=image/jpeg:https://theridgesresort.com/wp-content/uploads/2026/04/IMG_9938.jpg
END:VEVENT
BEGIN:VEVENT
DTSTART;TZID=America/New_York:20260416T180000
DTEND;TZID=America/New_York:20260416T200000
DTSTAMP:20260422T223307
CREATED:20260410T154431Z
LAST-MODIFIED:20260410T154431Z
UID:10001907-1776362400-1776369600@theridgesresort.com
SUMMARY:Lindsay Beth Harper Live Under the Oaks
DESCRIPTION:Join us every Thursday evening from 6-8pm for an unforgettable night of live music! Enjoy the elevated ambiance\, calming tunes from talented local artists\, and delicious food and drinks. Whether you’re winding down your day or planning a relaxed night out\, this is the perfect way to savor the season in style.
URL:https://theridgesresort.com/event/lindsay-beth-harper-live-under-the-oaks/2026-04-16/2/
LOCATION:The Oaks Lakeside Kitchen\, 3493 US-76 W\, Hiawassee\, GA\, 30546\, United States
CATEGORIES:Live Music,Music & Entertainment
ATTACH;FMTTYPE=image/jpeg:https://theridgesresort.com/wp-content/uploads/2026/04/IMG_9938.jpg
END:VEVENT
BEGIN:VEVENT
DTSTART;TZID=America/New_York:20260417T190000
DTEND;TZID=America/New_York:20260417T220000
DTSTAMP:20260422T223307
CREATED:20250313T155832Z
LAST-MODIFIED:20250528T154826Z
UID:10000712-1776452400-1776463200@theridgesresort.com
SUMMARY:DJ Lori Karaoke
DESCRIPTION:
URL:https://theridgesresort.com/event/dj-lori-karaoke/2026-04-17/
LOCATION:Marina Station\, 3399 US Highway 76W\, Hiawassee\, GA\, 30546\, United States
CATEGORIES:Music & Entertainment
END:VEVENT
BEGIN:VEVENT
DTSTART;TZID=America/New_York:20260420T180000
DTEND;TZID=America/New_York:20260420T200000
DTSTAMP:20260422T223307
CREATED:20251003T141841Z
LAST-MODIFIED:20251003T141841Z
UID:10001346-1776708000-1776715200@theridgesresort.com
SUMMARY:Team Trivia with Becky
DESCRIPTION:Put your knowledge to the test with 6 fast-paced rounds of general trivia\, including fun music and picture rounds. Bring your friends\, form a team\, and compete for bragging rights in a lively\, lakeside atmosphere.
URL:https://theridgesresort.com/event/team-trivia-with-becky/2026-04-20/
LOCATION:Marina Station\, 3399 US Highway 76W\, Hiawassee\, GA\, 30546\, United States
CATEGORIES:Marina Station Weekly Specials,Music & Entertainment
END:VEVENT
BEGIN:VEVENT
DTSTART;TZID=America/New_York:20260423T180000
DTEND;TZID=America/New_York:20260423T200000
DTSTAMP:20260422T223307
CREATED:20260410T153149Z
LAST-MODIFIED:20260410T153149Z
UID:10001905-1776967200-1776974400@theridgesresort.com
SUMMARY:Trevor Ciongoli Live Under the Oaks
DESCRIPTION:Join us every Thursday evening from 6-8pm for an unforgettable night of live music! Enjoy the elevated ambiance\, calming tunes from talented local artists\, and delicious food and drinks. Whether you’re winding down your day or planning a relaxed night out\, this is the perfect way to savor the season in style.
URL:https://theridgesresort.com/event/trevor-ciongoli-live-under-the-oaks-3/
LOCATION:The Oaks Lakeside Kitchen\, 3493 US-76 W\, Hiawassee\, GA\, 30546\, United States
CATEGORIES:Live Music,Music & Entertainment
ATTACH;FMTTYPE=image/jpeg:https://theridgesresort.com/wp-content/uploads/2026/01/Trevor-Ciongoli-1-scaled.jpeg
END:VEVENT
END:VCALENDAR