BEGIN:VCALENDAR
VERSION:2.0
PRODID:-//The Ridges Resort - ECPv6.15.20//NONSGML v1.0//EN
CALSCALE:GREGORIAN
METHOD:PUBLISH
X-WR-CALNAME:The Ridges Resort
X-ORIGINAL-URL:https://theridgesresort.com
X-WR-CALDESC:Events for The Ridges Resort
REFRESH-INTERVAL;VALUE=DURATION:PT1H
X-Robots-Tag:noindex
X-PUBLISHED-TTL:PT1H
BEGIN:VTIMEZONE
TZID:America/New_York
BEGIN:DAYLIGHT
TZOFFSETFROM:-0500
TZOFFSETTO:-0400
TZNAME:EDT
DTSTART:20250309T070000
END:DAYLIGHT
BEGIN:STANDARD
TZOFFSETFROM:-0400
TZOFFSETTO:-0500
TZNAME:EST
DTSTART:20251102T060000
END:STANDARD
BEGIN:DAYLIGHT
TZOFFSETFROM:-0500
TZOFFSETTO:-0400
TZNAME:EDT
DTSTART:20260308T070000
END:DAYLIGHT
BEGIN:STANDARD
TZOFFSETFROM:-0400
TZOFFSETTO:-0500
TZNAME:EST
DTSTART:20261101T060000
END:STANDARD
BEGIN:DAYLIGHT
TZOFFSETFROM:-0500
TZOFFSETTO:-0400
TZNAME:EDT
DTSTART:20270314T070000
END:DAYLIGHT
BEGIN:STANDARD
TZOFFSETFROM:-0400
TZOFFSETTO:-0500
TZNAME:EST
DTSTART:20271107T060000
END:STANDARD
END:VTIMEZONE
BEGIN:VEVENT
DTSTART;TZID=America/New_York:20260411T110000
DTEND;TZID=America/New_York:20260510T160000
DTSTAMP:20260425T081035
CREATED:20260317T172917Z
LAST-MODIFIED:20260317T172917Z
UID:10001889-1775905200-1778428800@theridgesresort.com
SUMMARY:The Rhododendron Festival
DESCRIPTION:Celebrating North Georgia’s beautiful native flowers with a Rhododendron Festival.\n\n\nDetailed Hours: \nApril 11 – May 10\, 2026\nOpen 7 days a week! \nOperating Hours: \nMonday–Thursday: 11AM – 3PM\nFriday–Sunday: 10AM – 4PM
URL:https://theridgesresort.com/event/the-rhododendron-festival/
LOCATION:GA
ATTACH;FMTTYPE=image/png:https://theridgesresort.com/wp-content/uploads/2026/03/Rhodo_Fest_2026.png
END:VEVENT
BEGIN:VEVENT
DTSTART;TZID=America/New_York:20260425T110000
DTEND;TZID=America/New_York:20260425T170000
DTSTAMP:20260425T081035
CREATED:20260317T173159Z
LAST-MODIFIED:20260317T173159Z
UID:10001890-1777114800-1777136400@theridgesresort.com
SUMMARY:Hiawassee Highlands Wine Festival
DESCRIPTION:Happening on Saturday\, April 25th\, 2026\nFrom 11:00am to 5:00pm\nSpringtime in the mountain is better with wine\, music & flowers!\nDetailed Hours: \nSaturday\, April 25\, 2026\n11am-5pm
URL:https://theridgesresort.com/event/hiawassee-highlands-wine-festival/
LOCATION:GA
ATTACH;FMTTYPE=image/png:https://theridgesresort.com/wp-content/uploads/2026/03/download.png
END:VEVENT
BEGIN:VEVENT
DTSTART;TZID=America/New_York:20260425T190000
DTEND;TZID=America/New_York:20260425T220000
DTSTAMP:20260425T081035
CREATED:20260327T190612Z
LAST-MODIFIED:20260327T190612Z
UID:10001900-1777143600-1777154400@theridgesresort.com
SUMMARY:Southern Vantage Live at Marina Station
DESCRIPTION:Join us Saturday\, April 25th from 7pm-10pm for LIVE music from Southern Vantage!
URL:https://theridgesresort.com/event/southern-vantage-live-at-marina-station-3/
LOCATION:Marina Station\, 3399 US Highway 76W\, Hiawassee\, GA\, 30546\, United States
ATTACH;FMTTYPE=image/jpeg:https://theridgesresort.com/wp-content/uploads/2025/03/Southern-Vantage.jpg
END:VEVENT
END:VCALENDAR