BEGIN:VCALENDAR
VERSION:2.0
PRODID:-//The Ridges Resort - ECPv6.15.20//NONSGML v1.0//EN
CALSCALE:GREGORIAN
METHOD:PUBLISH
X-ORIGINAL-URL:https://theridgesresort.com
X-WR-CALDESC:Events for The Ridges Resort
REFRESH-INTERVAL;VALUE=DURATION:PT1H
X-Robots-Tag:noindex
X-PUBLISHED-TTL:PT1H
BEGIN:VTIMEZONE
TZID:America/New_York
BEGIN:DAYLIGHT
TZOFFSETFROM:-0500
TZOFFSETTO:-0400
TZNAME:EDT
DTSTART:20240310T070000
END:DAYLIGHT
BEGIN:STANDARD
TZOFFSETFROM:-0400
TZOFFSETTO:-0500
TZNAME:EST
DTSTART:20241103T060000
END:STANDARD
BEGIN:DAYLIGHT
TZOFFSETFROM:-0500
TZOFFSETTO:-0400
TZNAME:EDT
DTSTART:20250309T070000
END:DAYLIGHT
BEGIN:STANDARD
TZOFFSETFROM:-0400
TZOFFSETTO:-0500
TZNAME:EST
DTSTART:20251102T060000
END:STANDARD
BEGIN:DAYLIGHT
TZOFFSETFROM:-0500
TZOFFSETTO:-0400
TZNAME:EDT
DTSTART:20260308T070000
END:DAYLIGHT
BEGIN:STANDARD
TZOFFSETFROM:-0400
TZOFFSETTO:-0500
TZNAME:EST
DTSTART:20261101T060000
END:STANDARD
END:VTIMEZONE
BEGIN:VEVENT
DTSTART;TZID=America/New_York:20250907T130000
DTEND;TZID=America/New_York:20250907T160000
DTSTAMP:20260425T070619
CREATED:20250313T174152Z
LAST-MODIFIED:20250313T174152Z
UID:10000333-1757250000-1757260800@theridgesresort.com
SUMMARY:Mountain Gypsy
DESCRIPTION:Curtis and Kim Jones Mountain Gypsy Music\, based out of Blairsville\, Ga\, are known locally for their ability to interweave Spanish Flamenco Guitar\, Jazz\, Gypsy Jazz\, Bluegrass\, Classic Rock\,  Mississippi Delta Blues\, and Folk music together to create a show unlike any other. Curtis is one of the fastest Flatpicking Guitarists in the world and Kim adds beautiful Vocals combined with exceptional Upright Bass accompaniment.  A show not to be missed!
URL:https://theridgesresort.com/event/mountain-gypsy/2025-09-07/
LOCATION:Marina Station\, 3399 US Highway 76W\, Hiawassee\, GA\, 30546\, United States
CATEGORIES:Music & Entertainment
ATTACH;FMTTYPE=image/jpeg:https://theridgesresort.com/wp-content/uploads/2025/03/Mountain-Gypsy.jpg
END:VEVENT
END:VCALENDAR